BEGIN:VCALENDAR
VERSION:2.0
PRODID:-//The Lizard, Cornwall - ECPv6.0.13.1//NONSGML v1.0//EN
CALSCALE:GREGORIAN
METHOD:PUBLISH
X-WR-CALNAME:The Lizard, Cornwall
X-ORIGINAL-URL:https://thelizard.uk
X-WR-CALDESC:Events for The Lizard, Cornwall
REFRESH-INTERVAL;VALUE=DURATION:PT1H
X-Robots-Tag:noindex
X-PUBLISHED-TTL:PT1H
BEGIN:VTIMEZONE
TZID:Europe/London
BEGIN:DAYLIGHT
TZOFFSETFROM:+0000
TZOFFSETTO:+0100
TZNAME:BST
DTSTART:20230326T010000
END:DAYLIGHT
BEGIN:STANDARD
TZOFFSETFROM:+0100
TZOFFSETTO:+0000
TZNAME:GMT
DTSTART:20231029T010000
END:STANDARD
BEGIN:DAYLIGHT
TZOFFSETFROM:+0000
TZOFFSETTO:+0100
TZNAME:BST
DTSTART:20240331T010000
END:DAYLIGHT
BEGIN:STANDARD
TZOFFSETFROM:+0100
TZOFFSETTO:+0000
TZNAME:GMT
DTSTART:20241027T010000
END:STANDARD
BEGIN:DAYLIGHT
TZOFFSETFROM:+0000
TZOFFSETTO:+0100
TZNAME:BST
DTSTART:20250330T010000
END:DAYLIGHT
BEGIN:STANDARD
TZOFFSETFROM:+0100
TZOFFSETTO:+0000
TZNAME:GMT
DTSTART:20251026T010000
END:STANDARD
BEGIN:DAYLIGHT
TZOFFSETFROM:+0000
TZOFFSETTO:+0100
TZNAME:BST
DTSTART:20260329T010000
END:DAYLIGHT
BEGIN:STANDARD
TZOFFSETFROM:+0100
TZOFFSETTO:+0000
TZNAME:GMT
DTSTART:20261025T010000
END:STANDARD
END:VTIMEZONE
BEGIN:VEVENT
DTSTART;TZID=Europe/London:20230618T120000
DTEND;TZID=Europe/London:20230618T160000
DTSTAMP:20260421T100941
CREATED:20230605T075250Z
LAST-MODIFIED:20230605T075250Z
UID:10001611-1687089600-1687104000@thelizard.uk
SUMMARY:Open Farm Sunday
DESCRIPTION:Open Farm Sundays give vis­i­tors the oppor­tu­ni­ty to learn more about farm­ing and the coun­try­side\, and farm­ers the chance to talk about what they’re so proud of: British food and farming! \nBooking details: sales@tregullasfarm.co.uk \nAddress: Light House Road\, The Lizard\, Near Helston\, Cornwall\, TR12 7NL\, \nEvent cost: Free \n\nHighlights: Beef; Sheep; Pigs; Poultry; Other livestock; Flowers and plants; Environmental stewardship; Farm shop / retail\nOther livestock: goats \n\nA fabulous fun day out. Animals to meet\, shearing demonstration\, childrens activities and mini farmers market. Plant stalls and refreshments including local ice cream and charity BBQ. \nMixed coastal farm with beef cattle\, sheep\, goats\, poultry\, cereals and veg.
URL:https://thelizard.uk/event/open-farm-sunday/
LOCATION:Tregullas Farm\, Tregullas Farm\, Lighthouse Road\, The Lizard\, Cornwall\, TR12 7NG\, United Kingdom
CATEGORIES:Community Events
ATTACH;FMTTYPE=image/jpeg:https://thelizard.uk/wp-content/uploads/2023/06/open-farm-sunday.jpg
END:VEVENT
BEGIN:VEVENT
DTSTART;TZID=Europe/London:20230624T100000
DTEND;TZID=Europe/London:20230624T150000
DTSTAMP:20260421T100941
CREATED:20230523T080208Z
LAST-MODIFIED:20230720T155533Z
UID:10000003-1687600800-1687618800@thelizard.uk
SUMMARY:Lizard Arts & Crafts Market
DESCRIPTION:A monthly Arts and Craft Market showcasing some of the best artisans from across West Cornwall. \nFacebook.com/LizardArtsandCraftMarket
URL:https://thelizard.uk/event/lizard-arts-crafts-market-june2023/
LOCATION:Tregullas Farm\, Tregullas Farm\, Lighthouse Road\, The Lizard\, Cornwall\, TR12 7NG\, United Kingdom
CATEGORIES:Arts & Crafts,Community Events,Markets
ATTACH;FMTTYPE=image/jpeg:https://thelizard.uk/wp-content/uploads/2023/05/artscrafts-market.jpg
END:VEVENT
BEGIN:VEVENT
DTSTART;TZID=Europe/London:20230722T100000
DTEND;TZID=Europe/London:20230722T150000
DTSTAMP:20260421T100941
CREATED:20230523T080419Z
LAST-MODIFIED:20230720T160856Z
UID:10000004-1690020000-1690038000@thelizard.uk
SUMMARY:Lizard Arts & Crafts Market
DESCRIPTION:Join us at Lizard Arts & Craft Market from 10am – 3pm where you will find a large variety of artists\, crafters and artisans selling their beautifully hand crafted items in the tranquil surroundings of Tregullas Farm. \nAt the T junction on Lighthouse road just past Trenoweth gift shop\, turn left and follow our car park and market signs.
URL:https://thelizard.uk/event/lizard-arts-crafts-market-july-2023/
LOCATION:Tregullas Farm\, Tregullas Farm\, Lighthouse Road\, The Lizard\, Cornwall\, TR12 7NG\, United Kingdom
CATEGORIES:Arts & Crafts,Markets
ATTACH;FMTTYPE=image/jpeg:https://thelizard.uk/wp-content/uploads/2023/05/artscrafts-market.jpg
END:VEVENT
BEGIN:VEVENT
DTSTART;TZID=Europe/London:20230819T100000
DTEND;TZID=Europe/London:20230819T150000
DTSTAMP:20260421T100941
CREATED:20230523T080516Z
LAST-MODIFIED:20230523T114912Z
UID:10000005-1692439200-1692457200@thelizard.uk
SUMMARY:Lizard Arts & Crafts Market
DESCRIPTION:Join us at Lizard Arts & Craft Market from 10am – 3pm where you will find a large variety of artists\, crafters and artisans selling their beautifully hand crafted items in the tranquil surroundings of Tregullas Farm. \nAt the T junction on Lighthouse road just past Trenoweth gift shop\, turn left and follow our car park and market signs.
URL:https://thelizard.uk/event/lizard-arts-crafts-market-august-2023/
LOCATION:Tregullas Farm\, Tregullas Farm\, Lighthouse Road\, The Lizard\, Cornwall\, TR12 7NG\, United Kingdom
CATEGORIES:Arts & Crafts,Markets
ATTACH;FMTTYPE=image/jpeg:https://thelizard.uk/wp-content/uploads/2023/05/341777197_593983682760129_4597256515546321251_n.jpg
END:VEVENT
BEGIN:VEVENT
DTSTART;TZID=Europe/London:20230916T100000
DTEND;TZID=Europe/London:20230916T150000
DTSTAMP:20260421T100941
CREATED:20230523T080635Z
LAST-MODIFIED:20230720T154833Z
UID:10000006-1694858400-1694876400@thelizard.uk
SUMMARY:Lizard Arts & Crafts Market
DESCRIPTION:Join us at Lizard Arts & Craft Market from 10am – 3pm where you will find a large variety of artists\, crafters and artisans selling their beautifully hand crafted items in the tranquil surroundings of Tregullas Farm. \nAt the T junction on Lighthouse road just past Trenoweth gift shop\, turn left and follow our car park and market signs.
URL:https://thelizard.uk/event/lizard-arts-crafts-market-september-2023/
LOCATION:Tregullas Farm\, Tregullas Farm\, Lighthouse Road\, The Lizard\, Cornwall\, TR12 7NG\, United Kingdom
CATEGORIES:Arts & Crafts,Markets
ATTACH;FMTTYPE=image/jpeg:https://thelizard.uk/wp-content/uploads/2023/05/artscrafts-market.jpg
END:VEVENT
BEGIN:VEVENT
DTSTART;TZID=Europe/London:20231124T173000
DTEND;TZID=Europe/London:20231124T200000
DTSTAMP:20260421T100941
CREATED:20231117T093738Z
LAST-MODIFIED:20231117T093738Z
UID:10001857-1700847000-1700856000@thelizard.uk
SUMMARY:Ellie's Fairy lit Supper at Tregullas Farm
DESCRIPTION:Book your table now and join us for a winter feast at Tregullas Farm. Call 07415489680 or send a message.
URL:https://thelizard.uk/event/ellies-fairy-lit-supper-at-tregullas-farm/
LOCATION:Tregullas Farm\, Tregullas Farm\, Lighthouse Road\, The Lizard\, Cornwall\, TR12 7NG\, United Kingdom
CATEGORIES:Food & Drink
ATTACH;FMTTYPE=image/jpeg:https://thelizard.uk/wp-content/uploads/2023/11/ellies-soul-tregullas.jpg
END:VEVENT
BEGIN:VEVENT
DTSTART;TZID=Europe/London:20240314T190000
DTEND;TZID=Europe/London:20240314T210000
DTSTAMP:20260421T100941
CREATED:20240304T124119Z
LAST-MODIFIED:20240304T124124Z
UID:10002184-1710442800-1710450000@thelizard.uk
SUMMARY:Six Inches of Soil
DESCRIPTION:Screening of the film Six inches of soil followed by question and answer discussion with a panel of local farmers on The Lizard. \nhttps://www.facebook.com/events/361051963246638?acontext=%7B%22event_action_history%22%3A[]%7D \n  \nTickets: £6.50 from Eventbrite\nhttps://l.facebook.com/l.php?u=https%3A%2F%2Fwww.eventbrite.co.uk%2Fe%2F767718044337%3Faff%3Doddtdtcreator%26fbclid%3DIwAR1pxFXiN8grgUBeOHftMU2qIu14PamhVc6Hlft0GrnIe-EeP6uh7a0TULA&h=AT2TyIY-HexkMx9frTKspMA17gDHk2yBFSpcv6NIymhSWysP4NaQsE26jouzoFO4_jCjw0AZbehA7LL6xpl5K5HwUTcyHdkk6EaU0KZlzDqRyVO20PZisXZLiv8z9rHwrytHrLQV
URL:https://thelizard.uk/event/six-inches-of-soil/
LOCATION:Tregullas Farm\, Tregullas Farm\, Lighthouse Road\, The Lizard\, Cornwall\, TR12 7NG\, United Kingdom
CATEGORIES:Arts & Crafts,Community Events
ATTACH;FMTTYPE=image/jpeg:https://thelizard.uk/wp-content/uploads/2024/03/sixsoil.jpg
END:VEVENT
BEGIN:VEVENT
DTSTART;TZID=Europe/London:20240525T090000
DTEND;TZID=Europe/London:20240525T160000
DTSTAMP:20260421T100941
CREATED:20240408T160314Z
LAST-MODIFIED:20240408T160318Z
UID:10002256-1716627600-1716652800@thelizard.uk
SUMMARY:Lizard Arts & Craft Market
DESCRIPTION:Lizard Arts & Crafts Markets are back for 2024! \n\nBringing quality\, locally crafted items to locals and tourists alike\, in the beautiful\, idyllic barns of Tregullas Farm\, Lizard.\n\nIf you would like to book a stall\, simply email me on at info@louisedownphotography.co.uk to find out more. If you have traded with us before\, then get in touch\, and I will send you a new booking form for 2024.
URL:https://thelizard.uk/event/lizard-arts-craft-market/2024-05-25/
LOCATION:Tregullas Farm\, Tregullas Farm\, Lighthouse Road\, The Lizard\, Cornwall\, TR12 7NG\, United Kingdom
CATEGORIES:Arts & Crafts,Markets
ATTACH;FMTTYPE=image/jpeg:https://thelizard.uk/wp-content/uploads/2024/04/lacm.jpg
END:VEVENT
BEGIN:VEVENT
DTSTART;TZID=Europe/London:20240629T090000
DTEND;TZID=Europe/London:20240629T160000
DTSTAMP:20260421T100941
CREATED:20240408T160314Z
LAST-MODIFIED:20240408T160318Z
UID:10002257-1719651600-1719676800@thelizard.uk
SUMMARY:Lizard Arts & Craft Market
DESCRIPTION:Lizard Arts & Crafts Markets are back for 2024! \n\nBringing quality\, locally crafted items to locals and tourists alike\, in the beautiful\, idyllic barns of Tregullas Farm\, Lizard.\n\nIf you would like to book a stall\, simply email me on at info@louisedownphotography.co.uk to find out more. If you have traded with us before\, then get in touch\, and I will send you a new booking form for 2024.
URL:https://thelizard.uk/event/lizard-arts-craft-market/2024-06-29/
LOCATION:Tregullas Farm\, Tregullas Farm\, Lighthouse Road\, The Lizard\, Cornwall\, TR12 7NG\, United Kingdom
CATEGORIES:Arts & Crafts,Markets
ATTACH;FMTTYPE=image/jpeg:https://thelizard.uk/wp-content/uploads/2024/04/lacm.jpg
END:VEVENT
BEGIN:VEVENT
DTSTART;TZID=Europe/London:20240713T080000
DTEND;TZID=Europe/London:20240713T170000
DTSTAMP:20260421T100941
CREATED:20240618T134024Z
LAST-MODIFIED:20240618T134030Z
UID:10002416-1720857600-1720890000@thelizard.uk
SUMMARY:Lizard Family Hoedown
DESCRIPTION:
URL:https://thelizard.uk/event/lizard-family-hoedown/2024-07-13/
LOCATION:Tregullas Farm\, Tregullas Farm\, Lighthouse Road\, The Lizard\, Cornwall\, TR12 7NG\, United Kingdom
CATEGORIES:Food & Drink,Live Music & Entertainment
ATTACH;FMTTYPE=image/jpeg:https://thelizard.uk/wp-content/uploads/2024/06/hoedown.jpg
END:VEVENT
BEGIN:VEVENT
DTSTART;TZID=Europe/London:20240713T090000
DTEND;TZID=Europe/London:20240713T160000
DTSTAMP:20260421T100941
CREATED:20240408T160314Z
LAST-MODIFIED:20240408T160318Z
UID:10002258-1720861200-1720886400@thelizard.uk
SUMMARY:Lizard Arts & Craft Market
DESCRIPTION:Lizard Arts & Crafts Markets are back for 2024! \n\nBringing quality\, locally crafted items to locals and tourists alike\, in the beautiful\, idyllic barns of Tregullas Farm\, Lizard.\n\nIf you would like to book a stall\, simply email me on at info@louisedownphotography.co.uk to find out more. If you have traded with us before\, then get in touch\, and I will send you a new booking form for 2024.
URL:https://thelizard.uk/event/lizard-arts-craft-market/2024-07-13/
LOCATION:Tregullas Farm\, Tregullas Farm\, Lighthouse Road\, The Lizard\, Cornwall\, TR12 7NG\, United Kingdom
CATEGORIES:Arts & Crafts,Markets
ATTACH;FMTTYPE=image/jpeg:https://thelizard.uk/wp-content/uploads/2024/04/lacm.jpg
END:VEVENT
BEGIN:VEVENT
DTSTART;TZID=Europe/London:20240713T193000
DTEND;TZID=Europe/London:20240713T230000
DTSTAMP:20260421T100941
CREATED:20240618T134024Z
LAST-MODIFIED:20240618T134030Z
UID:10002417-1720899000-1720911600@thelizard.uk
SUMMARY:Lizard Family Hoedown
DESCRIPTION:
URL:https://thelizard.uk/event/lizard-family-hoedown/2024-07-13/
LOCATION:Tregullas Farm\, Tregullas Farm\, Lighthouse Road\, The Lizard\, Cornwall\, TR12 7NG\, United Kingdom
CATEGORIES:Food & Drink,Live Music & Entertainment
ATTACH;FMTTYPE=image/jpeg:https://thelizard.uk/wp-content/uploads/2024/06/hoedown.jpg
END:VEVENT
BEGIN:VEVENT
DTSTART;TZID=Europe/London:20240831T090000
DTEND;TZID=Europe/London:20240831T160000
DTSTAMP:20260421T100941
CREATED:20240408T160314Z
LAST-MODIFIED:20240408T160318Z
UID:10002259-1725094800-1725120000@thelizard.uk
SUMMARY:Lizard Arts & Craft Market
DESCRIPTION:Lizard Arts & Crafts Markets are back for 2024! \n\nBringing quality\, locally crafted items to locals and tourists alike\, in the beautiful\, idyllic barns of Tregullas Farm\, Lizard.\n\nIf you would like to book a stall\, simply email me on at info@louisedownphotography.co.uk to find out more. If you have traded with us before\, then get in touch\, and I will send you a new booking form for 2024.
URL:https://thelizard.uk/event/lizard-arts-craft-market/2024-08-31/
LOCATION:Tregullas Farm\, Tregullas Farm\, Lighthouse Road\, The Lizard\, Cornwall\, TR12 7NG\, United Kingdom
CATEGORIES:Arts & Crafts,Markets
ATTACH;FMTTYPE=image/jpeg:https://thelizard.uk/wp-content/uploads/2024/04/lacm.jpg
END:VEVENT
BEGIN:VEVENT
DTSTART;TZID=Europe/London:20240928T090000
DTEND;TZID=Europe/London:20240928T160000
DTSTAMP:20260421T100941
CREATED:20240408T160314Z
LAST-MODIFIED:20240408T160318Z
UID:10002260-1727514000-1727539200@thelizard.uk
SUMMARY:Lizard Arts & Craft Market
DESCRIPTION:Lizard Arts & Crafts Markets are back for 2024! \n\nBringing quality\, locally crafted items to locals and tourists alike\, in the beautiful\, idyllic barns of Tregullas Farm\, Lizard.\n\nIf you would like to book a stall\, simply email me on at info@louisedownphotography.co.uk to find out more. If you have traded with us before\, then get in touch\, and I will send you a new booking form for 2024.
URL:https://thelizard.uk/event/lizard-arts-craft-market/2024-09-28/
LOCATION:Tregullas Farm\, Tregullas Farm\, Lighthouse Road\, The Lizard\, Cornwall\, TR12 7NG\, United Kingdom
CATEGORIES:Arts & Crafts,Markets
ATTACH;FMTTYPE=image/jpeg:https://thelizard.uk/wp-content/uploads/2024/04/lacm.jpg
END:VEVENT
BEGIN:VEVENT
DTSTART;TZID=Europe/London:20250705T200000
DTEND;TZID=Europe/London:20250706T000000
DTSTAMP:20260421T100941
CREATED:20250310T115642Z
LAST-MODIFIED:20250317T104321Z
UID:10002620-1751745600-1751760000@thelizard.uk
SUMMARY:The Lizard Hoe Down
DESCRIPTION:An evening of fun and dancing in the barn with The RosevillesDig out your cowboy boots and hats and come on down for an evening of celebration and Raising money for charity \nhttps://www.facebook.com/therosevilles \n\nTickets £10 adult £5 child from Farmshop
URL:https://thelizard.uk/event/the-lizard-hoe-down/
LOCATION:Tregullas Farm\, Tregullas Farm\, Lighthouse Road\, The Lizard\, Cornwall\, TR12 7NG\, United Kingdom
CATEGORIES:Live Music & Entertainment
ATTACH;FMTTYPE=image/jpeg:https://thelizard.uk/wp-content/uploads/2025/03/hoedown.jpg
END:VEVENT
BEGIN:VEVENT
DTSTART;TZID=Europe/London:20260115T190000
DTEND;TZID=Europe/London:20260115T210000
DTSTAMP:20260421T100941
CREATED:20260105T091157Z
LAST-MODIFIED:20260105T091310Z
UID:10002752-1768503600-1768510800@thelizard.uk
SUMMARY:The Oggymen: Save The Lizard Chapel Fundraiser
DESCRIPTION:[vc_row type=”in_container” full_screen_row_position=”middle” column_margin=”default” column_direction=”default” column_direction_tablet=”default” column_direction_phone=”default” scene_position=”center” text_color=”dark” text_align=”left” row_border_radius=”none” row_border_radius_applies=”bg” overflow=”visible” overlay_strength=”0.3″ gradient_direction=”left_to_right” shape_divider_position=”bottom” bg_image_animation=”none”][vc_column column_padding=”no-extra-padding” column_padding_tablet=”inherit” column_padding_phone=”inherit” column_padding_position=”all” column_element_direction_desktop=”default” column_element_spacing=”default” desktop_text_alignment=”default” tablet_text_alignment=”default” phone_text_alignment=”default” background_color_opacity=”1″ background_hover_color_opacity=”1″ column_backdrop_filter=”none” column_shadow=”none” column_border_radius=”none” column_link_target=”_self” column_position=”default” gradient_direction=”left_to_right” overlay_strength=”0.3″ width=”1/1″ tablet_width_inherit=”default” animation_type=”default” bg_image_animation=”none” border_type=”simple” column_border_width=”none” column_border_style=”solid”][vc_column_text]The Oggymen will perform exclusively for a fundraising concert in aid of Saving The Lizard Chapel\,  with all funds going to the cause. Tickets are very limited\, so please purchase before they sell out\, at lizardchapel.org[/vc_column_text][/vc_column][/vc_row][vc_row type=”in_container” full_screen_row_position=”middle” column_margin=”default” column_direction=”default” column_direction_tablet=”default” column_direction_phone=”default” scene_position=”center” text_color=”dark” text_align=”left” row_border_radius=”none” row_border_radius_applies=”bg” overflow=”visible” overlay_strength=”0.3″ gradient_direction=”left_to_right” shape_divider_position=”bottom” bg_image_animation=”none”][vc_column column_padding=”no-extra-padding” column_padding_tablet=”inherit” column_padding_phone=”inherit” column_padding_position=”all” column_element_direction_desktop=”default” column_element_spacing=”default” desktop_text_alignment=”default” tablet_text_alignment=”default” phone_text_alignment=”default” background_color_opacity=”1″ background_hover_color_opacity=”1″ column_backdrop_filter=”none” column_shadow=”none” column_border_radius=”none” column_link_target=”_self” column_position=”default” gradient_direction=”left_to_right” overlay_strength=”0.3″ width=”1/1″ tablet_width_inherit=”default” animation_type=”default” bg_image_animation=”none” border_type=”simple” column_border_width=”none” column_border_style=”solid”][nectar_btn size=”large” open_new_tab=”true” button_style=”regular” button_color_2=”Accent-Color” color_override=”#000000″ solid_text_color_override=”#FFFFFF” icon_family=”none” text=”BUY TICKETS” url=”https://www.eventbrite.co.uk/e/an-evening-with-the-oggymen-tickets-1974243140378″][/vc_column][/vc_row]
URL:https://thelizard.uk/event/the-oggymen-fundraiser/
LOCATION:Tregullas Farm\, Tregullas Farm\, Lighthouse Road\, The Lizard\, Cornwall\, TR12 7NG\, United Kingdom
CATEGORIES:Live Music & Entertainment
ATTACH;FMTTYPE=image/jpeg:https://thelizard.uk/wp-content/uploads/2026/01/oggymen-catch.jpg
END:VEVENT
END:VCALENDAR