BEGIN:VCALENDAR
VERSION:2.0
PRODID:-//The Lizard, Cornwall - ECPv6.0.13.1//NONSGML v1.0//EN
CALSCALE:GREGORIAN
METHOD:PUBLISH
X-WR-CALNAME:The Lizard, Cornwall
X-ORIGINAL-URL:https://thelizard.uk
X-WR-CALDESC:Events for The Lizard, Cornwall
REFRESH-INTERVAL;VALUE=DURATION:PT1H
X-Robots-Tag:noindex
X-PUBLISHED-TTL:PT1H
BEGIN:VTIMEZONE
TZID:Europe/London
BEGIN:DAYLIGHT
TZOFFSETFROM:+0000
TZOFFSETTO:+0100
TZNAME:BST
DTSTART:20230326T010000
END:DAYLIGHT
BEGIN:STANDARD
TZOFFSETFROM:+0100
TZOFFSETTO:+0000
TZNAME:GMT
DTSTART:20231029T010000
END:STANDARD
BEGIN:DAYLIGHT
TZOFFSETFROM:+0000
TZOFFSETTO:+0100
TZNAME:BST
DTSTART:20240331T010000
END:DAYLIGHT
BEGIN:STANDARD
TZOFFSETFROM:+0100
TZOFFSETTO:+0000
TZNAME:GMT
DTSTART:20241027T010000
END:STANDARD
BEGIN:DAYLIGHT
TZOFFSETFROM:+0000
TZOFFSETTO:+0100
TZNAME:BST
DTSTART:20250330T010000
END:DAYLIGHT
BEGIN:STANDARD
TZOFFSETFROM:+0100
TZOFFSETTO:+0000
TZNAME:GMT
DTSTART:20251026T010000
END:STANDARD
END:VTIMEZONE
BEGIN:VEVENT
DTSTART;TZID=Europe/London:20230523T180000
DTEND;TZID=Europe/London:20230523T180000
DTSTAMP:20260420T072000
CREATED:20230523T101027Z
LAST-MODIFIED:20250605T191035Z
UID:10000791-1684864800-1684864800@thelizard.uk
SUMMARY:Snooker Club
DESCRIPTION:Behind the Lizard Reading Room \n\nhttps://www.facebook.com/LizardSBC/?locale=en_GB
URL:https://thelizard.uk/event/snooker-club/
LOCATION:The Reading Room\, 8 Beacon Terrace\, The Lizard\, TR12 7PB
CATEGORIES:Clubs & Groups
ATTACH;FMTTYPE=image/jpeg:https://thelizard.uk/wp-content/uploads/2023/05/301036025_443930517751743_8484976522078067237_n.jpg
END:VEVENT
BEGIN:VEVENT
DTSTART;TZID=Europe/London:20241030T130000
DTEND;TZID=Europe/London:20241030T150000
DTSTAMP:20260420T072000
CREATED:20241025T152444Z
LAST-MODIFIED:20241025T152444Z
UID:10002557-1730293200-1730300400@thelizard.uk
SUMMARY:D.I.Y Theatre: Autumn & Winter 2024
DESCRIPTION:FREE Community Workshops in Theatre\, on The Lizard!\n\n\nOur first workshop begins next Wednesday with Actor and Acting Coach Liane Jose.\n\n\nPlease message our page to secure your space\, only a few spaces left!\n\n\nWednesday 30th October\, 1 – 3pm\, Lizard Reading Room\, Beacon Terrace\, TR12 7PB.\n\n\nOur first session will be looking at ensemble acting and physicality on stage.\n\n\n\nAbout Liane:\n\n\nLiane is a freelance actor and theatre practitioner\, delivering performances and workshops for various organisations\, including Minack Theatre\, MADE\, and Cascade Theatre Company. Recently\, she performed in Four Seasons\, an interactive show for older adults with dementia\, and in After the Rain\, a site-specific piece at Trelissick Gardens.\n\n\nLiane has extensive experience in medical role-play working with Peel Patients and PRP. She also conducts school workshops for Minack Theatre\, directing short plays\, and led their Arts Award program. Currently\, Liane is involved in Feeling Good\, a MADE project promoting arts and mental health in five primary schools\, and is excited to work with O-Region on the story-sharing project From the Horse’s Mouth next month. \n\n\n\nShe has also worked with Rogue Theatre\, The National Trust\, Bedlam Theatre Company\, and Hall for Cornwall\, creating a site-specific show\, Kara Hellys\, and performing in projects like Sarah Connor’s new play Levelling and MADE’s Wenna’s Wonderful World for early years audiences. Additionally\, she runs weekly drama workshops for adults with additional needs at Cascade Theatre
URL:https://thelizard.uk/event/d-i-y-theatre-autumn-winter-2024/
LOCATION:The Reading Room\, 8 Beacon Terrace\, The Lizard\, TR12 7PB
CATEGORIES:Arts & Crafts
ATTACH;FMTTYPE=image/jpeg:https://thelizard.uk/wp-content/uploads/2024/10/diytheatre.jpg
END:VEVENT
BEGIN:VEVENT
DTSTART;TZID=Europe/London:20250405T143000
DTEND;TZID=Europe/London:20250405T170000
DTSTAMP:20260420T072000
CREATED:20250317T104702Z
LAST-MODIFIED:20250331T141849Z
UID:10002628-1743863400-1743872400@thelizard.uk
SUMMARY:Gingerella
DESCRIPTION:Gingerella – LAFTA’s Cornish twist on the classic Cinderella story will be coming to you this April. A good old fashioned panto\, full of gags\, rhymes\, singing and fun for all the family! Expect lots of ‘ee’s behind you’ and booing and hissing at the wicked stepmother and awful stepsisters Saffron Buns and Heather Cakes! \nThis wacky\, poetry filled panto is written by Tamara Rosenwyn\, directed by Esther Johns\, and features many new and familiar faces. \nThe show runs for around 90 minutes\, there will be an interval and you can refresh with good value drinks from our bar! \nBook tickets at:\nhttps://www.ticketsource.co.uk/whats-on/cornwall/the-reading-room/gingerella/e-oekajz \n 
URL:https://thelizard.uk/event/gingerella/
LOCATION:The Reading Room\, 8 Beacon Terrace\, The Lizard\, TR12 7PB
CATEGORIES:Live Music & Entertainment
ATTACH;FMTTYPE=image/jpeg:https://thelizard.uk/wp-content/uploads/2025/03/gingerella.jpg
END:VEVENT
BEGIN:VEVENT
DTSTART;TZID=Europe/London:20250614T120000
DTEND;TZID=Europe/London:20250614T150000
DTSTAMP:20260420T072000
CREATED:20250609T093745Z
LAST-MODIFIED:20250609T093745Z
UID:10002680-1749902400-1749913200@thelizard.uk
SUMMARY:Jumble Sale
DESCRIPTION:[vc_row type=”in_container” full_screen_row_position=”middle” column_margin=”default” column_direction=”default” column_direction_tablet=”default” column_direction_phone=”default” scene_position=”center” text_color=”dark” text_align=”left” row_border_radius=”none” row_border_radius_applies=”bg” overflow=”visible” overlay_strength=”0.3″ gradient_direction=”left_to_right” shape_divider_position=”bottom” bg_image_animation=”none”][vc_column column_padding=”no-extra-padding” column_padding_tablet=”inherit” column_padding_phone=”inherit” column_padding_position=”all” column_element_direction_desktop=”default” column_element_spacing=”default” desktop_text_alignment=”default” tablet_text_alignment=”default” phone_text_alignment=”default” background_color_opacity=”1″ background_hover_color_opacity=”1″ column_backdrop_filter=”none” column_shadow=”none” column_border_radius=”none” column_link_target=”_self” column_position=”default” gradient_direction=”left_to_right” overlay_strength=”0.3″ width=”1/2″ tablet_width_inherit=”default” animation_type=”default” bg_image_animation=”none” border_type=”simple” column_border_width=”none” column_border_style=”solid”][vc_column_text]Please support our jumble sale. We are raising funds to host The Lizard Sea Shanty Festival and want to keep this event free to attend. We are much more than a festival\, and this year we are donating to:; The Lizard Community group. The Lizard RNLI Lifeboat Station Landewednack Primary School𝐖𝐞’𝐯𝐞 𝐡𝐚𝐝 𝐬𝐨𝐦𝐞 𝐥𝐨𝐯𝐞𝐥𝐲 𝐝𝐨𝐧𝐚𝐭𝐢𝐨𝐧𝐬 𝐭𝐨 𝐝𝐚𝐭𝐞 – 𝐞𝐯𝐞𝐫𝐲𝐭𝐡𝐢𝐧𝐠 𝐟𝐫𝐨𝐦 𝐚 𝐓𝐕 𝐚𝐧𝐝 𝐈𝐊𝐄𝐀 𝐤𝐢𝐝𝐬 𝐜𝐡𝐚𝐢𝐫 𝐭𝐨 𝐛𝐨𝐨𝐤𝐬\, 𝐩𝐮𝐳𝐳𝐥𝐞𝐬\, 𝐠𝐚𝐦𝐞𝐬\, 𝐪𝐮𝐚𝐥𝐢𝐭𝐲 𝐤𝐢𝐝𝐬’ 𝐜𝐥𝐨𝐭𝐡𝐞𝐬 𝐚𝐧𝐝 𝐚𝐝𝐮𝐥𝐭 𝐟𝐚𝐬𝐡𝐢𝐨𝐧.𝐎𝐧𝐞 𝐰𝐞𝐞𝐤 𝐭𝐨 𝐠𝐨 𝐎𝐩𝐞𝐧 𝐟𝐫𝐨𝐦 𝟏𝟐 𝐧𝐨𝐨𝐧 𝐭𝐨 𝟑𝐩𝐦 𝐓𝐡𝐞 𝐑𝐞𝐚𝐝𝐢𝐧𝐠 𝐑𝐨𝐨𝐦\, 𝐓𝐡𝐞 𝐋𝐢𝐳𝐚𝐫𝐝 The ladies will be baking\, so pop in for a cuppa and cake while you browse.There’s something for everyone guaranteed.Want a table to sell your own bits? It’s just £5\, and you can set up from 10am.Support this brilliant local event\, raising funds for much-loved local causes. Spread the word – Please share this post.#JumbleSale #TheLizard #SupportLocal #RNLI #CommunityEvent #SeaShantyFestival #LandewednackSchool #LizardVillage \nSee less\n[/vc_column_text][/vc_column][vc_column column_padding=”no-extra-padding” column_padding_tablet=”inherit” column_padding_phone=”inherit” column_padding_position=”all” column_element_direction_desktop=”default” column_element_spacing=”default” desktop_text_alignment=”default” tablet_text_alignment=”default” phone_text_alignment=”default” background_color_opacity=”1″ background_hover_color_opacity=”1″ column_backdrop_filter=”none” column_shadow=”none” column_border_radius=”none” column_link_target=”_self” column_position=”default” gradient_direction=”left_to_right” overlay_strength=”0.3″ width=”1/2″ tablet_width_inherit=”default” animation_type=”default” bg_image_animation=”none” border_type=”simple” column_border_width=”none” column_border_style=”solid”][image_with_animation image_url=”3608″ image_size=”full” animation_type=”entrance” animation=”None” animation_movement_type=”transform_y” hover_animation=”none” alignment=”” border_radius=”none” box_shadow=”none” image_loading=”default” max_width=”100%” max_width_mobile=”default”][/vc_column][/vc_row]
URL:https://thelizard.uk/event/jumble-sale/
LOCATION:The Reading Room\, 8 Beacon Terrace\, The Lizard\, TR12 7PB
CATEGORIES:Markets
ATTACH;FMTTYPE=image/jpeg:https://thelizard.uk/wp-content/uploads/2025/06/rroom-jumble.jpg
END:VEVENT
BEGIN:VEVENT
DTSTART;TZID=Europe/London:20250621T193000
DTEND;TZID=Europe/London:20250621T213000
DTSTAMP:20260420T072000
CREATED:20250521T120506Z
LAST-MODIFIED:20250521T120506Z
UID:10002667-1750534200-1750541400@thelizard.uk
SUMMARY:Joanna and Anna: Trelarious
DESCRIPTION:After working together on BBC Radio 4’s Wosson Cornwall\, comedians Joanna Neary and Anna Keirle wanted to create their own stage show shining a light on life in the Duchy – from Spingo Pilgrims and laughing at visitors to folk singers and mad nights out. Inspired by both the tradition of 19th century Droll Story Tellers (who would travel around Cornwall telling tales through dance and music) as well as podcasters (everyday folk sharing their wisdom\, lives and stories from their own front rooms)\, the result is a unique evening of eclectic and joyful entertainment. Come and ​have a proper laugh and a beer. \n  \nBook tickets now at\nhttps://www.ticketsource.co.uk/whats-on/cornwall/reading-room/joanna-and-anna-trelarious/e-gybqzx
URL:https://thelizard.uk/event/joanna-and-anna-trelarious/
LOCATION:The Reading Room\, 8 Beacon Terrace\, The Lizard\, TR12 7PB
CATEGORIES:Live Music & Entertainment
ATTACH;FMTTYPE=image/jpeg:https://thelizard.uk/wp-content/uploads/2025/05/trelarious.jpg
END:VEVENT
END:VCALENDAR