BEGIN:VCALENDAR
VERSION:2.0
PRODID:-//The Lizard, Cornwall - ECPv6.0.13.1//NONSGML v1.0//EN
CALSCALE:GREGORIAN
METHOD:PUBLISH
X-ORIGINAL-URL:https://thelizard.uk
X-WR-CALDESC:Events for The Lizard, Cornwall
REFRESH-INTERVAL;VALUE=DURATION:PT1H
X-Robots-Tag:noindex
X-PUBLISHED-TTL:PT1H
BEGIN:VTIMEZONE
TZID:Europe/London
BEGIN:DAYLIGHT
TZOFFSETFROM:+0000
TZOFFSETTO:+0100
TZNAME:BST
DTSTART:20250330T010000
END:DAYLIGHT
BEGIN:STANDARD
TZOFFSETFROM:+0100
TZOFFSETTO:+0000
TZNAME:GMT
DTSTART:20251026T010000
END:STANDARD
END:VTIMEZONE
BEGIN:VEVENT
DTSTART;TZID=Europe/London:20250108T190000
DTEND;TZID=Europe/London:20250108T210000
DTSTAMP:20260422T082316
CREATED:20250107T144820Z
LAST-MODIFIED:20250107T144933Z
UID:10002599-1736362800-1736370000@thelizard.uk
SUMMARY:George Brown Live at The Harbour Inn
DESCRIPTION:George Brown performs at the stunning Harbour Inn – A singer-songwriter from Cornwall showcasing a fusion of original songs and popular hits. Playing both piano and acoustic guitar George performs a variety of genres and styles. Perfect acoustic live music vibes to accompany your Wednesday evening . \n  \nFind out more on Facebook\nhttps://fb.me/e/2ywxZ6RIN
URL:https://thelizard.uk/event/george-brown-live-at-the-harbour-inn/
LOCATION:The Harbour Inn\, Porthleven\, Commercial Road\, Porthleven\, Cornwall\, TR13 9JB\, United Kingdom
CATEGORIES:Live Music & Entertainment
ATTACH;FMTTYPE=image/jpeg:https://thelizard.uk/wp-content/uploads/2025/01/georgebrown.jpg
END:VEVENT
BEGIN:VEVENT
DTSTART;TZID=Europe/London:20250115T190000
DTEND;TZID=Europe/London:20250115T210000
DTSTAMP:20260422T082316
CREATED:20250107T145116Z
LAST-MODIFIED:20250107T145116Z
UID:10002600-1736967600-1736974800@thelizard.uk
SUMMARY:Seamus Mac Live at The Harbour Inn
DESCRIPTION:Cousin Jack Productions are pleased to welcome the multi talented Seamus McKenna ! Seamus delivers a contrasting mixture of Celtic & English Folk\, Country music and a healthy dose of Rock n Roll! \nFind out more at\nhttps://fb.me/e/5Oi4eIfL6
URL:https://thelizard.uk/event/seamus-mac-live-at-the-harbour-inn/
LOCATION:The Harbour Inn\, Porthleven\, Commercial Road\, Porthleven\, Cornwall\, TR13 9JB\, United Kingdom
CATEGORIES:Live Music & Entertainment
ATTACH;FMTTYPE=image/jpeg:https://thelizard.uk/wp-content/uploads/2024/10/seamus.jpg
END:VEVENT
END:VCALENDAR