BEGIN:VCALENDAR
VERSION:2.0
PRODID:-//The Lizard, Cornwall - ECPv6.0.13.1//NONSGML v1.0//EN
CALSCALE:GREGORIAN
METHOD:PUBLISH
X-WR-CALNAME:The Lizard, Cornwall
X-ORIGINAL-URL:https://thelizard.uk
X-WR-CALDESC:Events for The Lizard, Cornwall
REFRESH-INTERVAL;VALUE=DURATION:PT1H
X-Robots-Tag:noindex
X-PUBLISHED-TTL:PT1H
BEGIN:VTIMEZONE
TZID:Europe/London
BEGIN:DAYLIGHT
TZOFFSETFROM:+0000
TZOFFSETTO:+0100
TZNAME:BST
DTSTART:20250330T010000
END:DAYLIGHT
BEGIN:STANDARD
TZOFFSETFROM:+0100
TZOFFSETTO:+0000
TZNAME:GMT
DTSTART:20251026T010000
END:STANDARD
BEGIN:DAYLIGHT
TZOFFSETFROM:+0000
TZOFFSETTO:+0100
TZNAME:BST
DTSTART:20260329T010000
END:DAYLIGHT
BEGIN:STANDARD
TZOFFSETFROM:+0100
TZOFFSETTO:+0000
TZNAME:GMT
DTSTART:20261025T010000
END:STANDARD
END:VTIMEZONE
BEGIN:VEVENT
DTSTART;TZID=Europe/London:20250118T210000
DTEND;TZID=Europe/London:20250118T230000
DTSTAMP:20260424T003539
CREATED:20250107T144639Z
LAST-MODIFIED:20250107T144639Z
UID:10002598-1737234000-1737241200@thelizard.uk
SUMMARY:Cahooty live at The Blue Anchor\, Helston
DESCRIPTION:Live music from Cahooty! ‘Cahooty’s ‘Hillbilly Highway’ features our energetic and unique acoustic take on familiar songs from the last 60 years. With multi-layered harmony\, double bass\, guitars\, percussion\, (sometimes mandolin\, fiddle or banjo)\, Cahooty deliver an exciting and original contemporary acoustic mix of country\, bluegrass\, rock’n’roll and rockabilly served up with buckets full of humour and enthusiasm. One of the most popular bands in Cornwall since 2005 we perform unlikely songs from different genres and times with an expertise and an original twist that appeals to people of all ages.’\n\nJoin us\, Saturday 18th January\, 9pm.Plenty of Spingo – come and join in the fun!\n\nFull details at\nhttps://fb.me/e/2AaxzvQDb
URL:https://thelizard.uk/event/cahooty-live-at-the-blue-anchor-helston/
LOCATION:The Blue Anchor\, Helston\, 46 Coinagehall Street\, Helston\, TR13 8EL
CATEGORIES:Live Music & Entertainment
ATTACH;FMTTYPE=image/jpeg:https://thelizard.uk/wp-content/uploads/2025/01/cahooty.jpg
END:VEVENT
BEGIN:VEVENT
DTSTART;TZID=Europe/London:20250207T190000
DTEND;TZID=Europe/London:20250207T210000
DTSTAMP:20260424T003539
CREATED:20250207T152414Z
LAST-MODIFIED:20250207T152414Z
UID:10002606-1738954800-1738962000@thelizard.uk
SUMMARY:Akoustek live at The Blue Anchor
DESCRIPTION:Join us\, live music from Akoustek!\n‘live guitar music and great vocals\, presenting some of the classic songs from the 50s\, 60s and 70s along with Cornish and Irish classics.’\nFriday 7th February\, 7pm
URL:https://thelizard.uk/event/akoustek-live-at-the-blue-anchor/
LOCATION:The Blue Anchor\, Helston\, 46 Coinagehall Street\, Helston\, TR13 8EL
CATEGORIES:Live Music & Entertainment
ATTACH;FMTTYPE=image/jpeg:https://thelizard.uk/wp-content/uploads/2025/02/akoustek.jpg
END:VEVENT
BEGIN:VEVENT
DTSTART;TZID=Europe/London:20250222T210000
DTEND;TZID=Europe/London:20250222T230000
DTSTAMP:20260424T003539
CREATED:20250207T152802Z
LAST-MODIFIED:20250207T152802Z
UID:10002607-1740258000-1740265200@thelizard.uk
SUMMARY:Dylan Josh live at The Blue Anchor
DESCRIPTION:‘We are a keen young acoustic duo from the Helston. We play covers from the 70s to the present day. All are crowd pleasers and sing along numbers including Oasis\, George Ezra\, Florence & the Machine etc.’\n\nJoin us\, and support these talented young musicians. Plenty of Spingo and fun to go around.
URL:https://thelizard.uk/event/dylan-josh-live-at-the-blue-anchor/
LOCATION:The Blue Anchor\, Helston\, 46 Coinagehall Street\, Helston\, TR13 8EL
CATEGORIES:Live Music & Entertainment
ATTACH;FMTTYPE=image/jpeg:https://thelizard.uk/wp-content/uploads/2025/02/dylanjosh.jpg
END:VEVENT
BEGIN:VEVENT
DTSTART;TZID=Europe/London:20250301T180000
DTEND;TZID=Europe/London:20250301T230000
DTSTAMP:20260424T003539
CREATED:20250128T092002Z
LAST-MODIFIED:20250128T092002Z
UID:10002604-1740852000-1740870000@thelizard.uk
SUMMARY:Shanty Festive at The Blue Anchor
DESCRIPTION:JOIN US FOR OUR SEA SHANTY FESTIVAL – KINDLY ORGANISED BY TIM HAGUE \n\nA huge array of music acts will be attending our shanty festival: \n\nODDS & SODS6PM-6:50PM \n\nOLIVER BURNS7PM-7:30PM \n\nBALDRICKS PLAN7:40PM-8:30PM \n\nFIGUREHEAD8:40PM-9:30PM \n\nFIVE MEN NOT CALLED MATT9:4PM-10:30PM \n\nJAM FIRST10:30PM-11:30PM \n\nAll proceeds go to Lizard RNLI and Cornwall Children’s Hospice.
URL:https://thelizard.uk/event/shanty-festive-at-the-blue-anchor/
LOCATION:The Blue Anchor\, Helston\, 46 Coinagehall Street\, Helston\, TR13 8EL
CATEGORIES:Live Music & Entertainment
ATTACH;FMTTYPE=image/jpeg:https://thelizard.uk/wp-content/uploads/2025/01/helstonshantyfestival.jpg
END:VEVENT
BEGIN:VEVENT
DTSTART;TZID=Europe/London:20250308T190000
DTEND;TZID=Europe/London:20250308T210000
DTSTAMP:20260424T003539
CREATED:20250207T152959Z
LAST-MODIFIED:20250207T152959Z
UID:10002608-1741460400-1741467600@thelizard.uk
SUMMARY:Cober Mouth live at The Blue Anchor
DESCRIPTION:The critically acclaimed nu-metalcore trio Cober Mouth return with the latest chapter of their music:\nIII: DARK AS IT GETS\n_________________________\nCOBER MOUTH\nCornish raised\, Bristol developed nu-metalcore band.\nAchieved coverage from BBC Radio 1\, Kerrang\, Metal Hammer and more.\nFFO: Architects\, Slipknot\, Northlane\nhttps://www.cobermouth.uk/link\n__________________________\nSIMBULIS\nNu-metalcore from Derby UK\nhttps://linktr.ee/Simbulis\n____________________________\nCOLLAPSE THE VOID\n5 piece metalcore band from South Wales\nhttps://www.collapsethevoid.co...\n____________________________\nFALLING EMPIRES\nBlending a nostalia bomb of 2000s emo with hard hitting post-hardcore\, stoner-rock and grunge based riffage.\nHigh-energy and emotion to their brand of “Screamo with Solos”\nhttps://linktr.ee/fallingempir…\n____________________________\nDoors 19:00 \nCurfew 23:00 \nhttps://www.cobermouth.uk/live
URL:https://thelizard.uk/event/cober-mouth-live-at-the-blue-anchor/
LOCATION:The Blue Anchor\, Helston\, 46 Coinagehall Street\, Helston\, TR13 8EL
CATEGORIES:Live Music & Entertainment
ATTACH;FMTTYPE=image/jpeg:https://thelizard.uk/wp-content/uploads/2025/02/cobermouth.jpg
END:VEVENT
BEGIN:VEVENT
DTSTART;TZID=Europe/London:20250315T210000
DTEND;TZID=Europe/London:20250315T230000
DTSTAMP:20260424T003539
CREATED:20250128T092245Z
LAST-MODIFIED:20250128T092245Z
UID:10002605-1742072400-1742079600@thelizard.uk
SUMMARY:Stephen Kempe Live at The Blue Anchor
DESCRIPTION:Join us for live music from Stephen Kempe\, a.k.a ‘The Cornish Cowboy’\, to have an early celebration for St Patrick’s Day.\nSaturday 15th March – 9pm\nJoin us!
URL:https://thelizard.uk/event/stephen-kempe-live-at-the-blue-anchor/
LOCATION:The Blue Anchor\, Helston\, 46 Coinagehall Street\, Helston\, TR13 8EL
CATEGORIES:Live Music & Entertainment
ATTACH;FMTTYPE=image/jpeg:https://thelizard.uk/wp-content/uploads/2025/01/474572062_1156348399826939_400760643540796115_n.jpg
END:VEVENT
BEGIN:VEVENT
DTSTART;TZID=Europe/London:20250323T140000
DTEND;TZID=Europe/London:20250323T170000
DTSTAMP:20260424T003539
CREATED:20250227T142824Z
LAST-MODIFIED:20250227T142824Z
UID:10002610-1742738400-1742749200@thelizard.uk
SUMMARY:Henry Trengrouse Day
DESCRIPTION:CELEBRATE HENRY TRENGROUSE DAY\nat The Blue Anchor\, Helston \n\nSunday 23rd March\, from 2pm(approx.)\nJoin us for Cornish singing\nWe can’t wait to see you there.
URL:https://thelizard.uk/event/henry-trengrouse-day/
LOCATION:The Blue Anchor\, Helston\, 46 Coinagehall Street\, Helston\, TR13 8EL
CATEGORIES:Live Music & Entertainment
ATTACH;FMTTYPE=image/jpeg:https://thelizard.uk/wp-content/uploads/2025/02/476932313_1172069771588135_4015324577691112877_n.jpg
END:VEVENT
BEGIN:VEVENT
DTSTART;TZID=Europe/London:20250329T210000
DTEND;TZID=Europe/London:20250329T230000
DTSTAMP:20260424T003539
CREATED:20250106T095254Z
LAST-MODIFIED:20250317T103635Z
UID:10002585-1743282000-1743289200@thelizard.uk
SUMMARY:Marmalade Shed live at The Blue Anchor\, Helston
DESCRIPTION:Live music from Marmalade Shed!Join us\, Saturday 29th March\, 9pm.\nPlenty of Spingo – come and join in the fun!\nFull details at\nhttps://fb.me/e/89GXsYQh4
URL:https://thelizard.uk/event/marmalade-shed-live-at-the-blue-anchor-helston/
LOCATION:The Blue Anchor\, Helston\, 46 Coinagehall Street\, Helston\, TR13 8EL
CATEGORIES:Live Music & Entertainment
ATTACH;FMTTYPE=image/jpeg:https://thelizard.uk/wp-content/uploads/2025/01/marmaladeshed.jpg
END:VEVENT
BEGIN:VEVENT
DTSTART;TZID=Europe/London:20250404T210000
DTEND;TZID=Europe/London:20250404T230000
DTSTAMP:20260424T003539
CREATED:20250331T140842Z
LAST-MODIFIED:20250331T140842Z
UID:10002633-1743800400-1743807600@thelizard.uk
SUMMARY:Live music: Straight Fire
DESCRIPTION:Join us at The Blue Anchor for live music from Straight Fire!Friday 4th April\, 9pm-11pm\nPlenty of Spingo\, outside seating and heaters etc.
URL:https://thelizard.uk/event/live-music-straight-fire/
LOCATION:The Blue Anchor\, Helston\, 46 Coinagehall Street\, Helston\, TR13 8EL
CATEGORIES:Live Music & Entertainment
ATTACH;FMTTYPE=image/jpeg:https://thelizard.uk/wp-content/uploads/2025/03/487214129_1214100364051742_5566970040095369987_n.jpg
END:VEVENT
BEGIN:VEVENT
DTSTART;TZID=Europe/London:20250717T190000
DTEND;TZID=Europe/London:20250720T235900
DTSTAMP:20260424T003539
CREATED:20250714T075900Z
LAST-MODIFIED:20250714T075947Z
UID:10002685-1752778800-1753055940@thelizard.uk
SUMMARY:Helstonbury 2025 17th - 20th July
DESCRIPTION:Helstonbury festival held in the Blue Anchor every year\, raising money for local charities. \n\nhelstonbury.com
URL:https://thelizard.uk/event/helstonbury-2025-17th-20th-july/
LOCATION:The Blue Anchor\, Helston\, 46 Coinagehall Street\, Helston\, TR13 8EL
CATEGORIES:Live Music & Entertainment
ATTACH;FMTTYPE=image/jpeg:https://thelizard.uk/wp-content/uploads/2025/07/helstonbury.jpg
END:VEVENT
BEGIN:VEVENT
DTSTART;TZID=Europe/London:20250927T150000
DTEND;TZID=Europe/London:20250927T230000
DTSTAMP:20260424T003539
CREATED:20250916T093644Z
LAST-MODIFIED:20250916T093644Z
UID:10002719-1758985200-1759014000@thelizard.uk
SUMMARY:Homecoming 2025
DESCRIPTION:The HEAVIEST bands in the DEEPEST South!\nHomecoming is where the map ends and the noise begins.A collision of South West riffs\, sweat\, and chaos hosted in a 600 year old venue.\nAll heavy. No barriers. Just a stacked all day festival with killer bands and breakdowns.\n​\nGET LOCKED INTO THE PIT \nTicket prices rise the longer you wait.Lock yours in early and save your cash for Spingo and pasties.\n_\nTICKET TIERS \nEarly Bird – £10 – SOLD OUTGeneral Advance – £15On The Door – £20 *\n*First come first serve on the day\n–\nTickets\, info and more:www.cobermouth.uk/homecoming\n 
URL:https://thelizard.uk/event/homecoming-2025/
LOCATION:The Blue Anchor\, Helston\, 46 Coinagehall Street\, Helston\, TR13 8EL
CATEGORIES:Live Music & Entertainment
ATTACH;FMTTYPE=image/jpeg:https://thelizard.uk/wp-content/uploads/2025/09/homecoming2025.jpg
END:VEVENT
BEGIN:VEVENT
DTSTART;TZID=Europe/London:20251005T170000
DTEND;TZID=Europe/London:20251005T190000
DTSTAMP:20260424T003539
CREATED:20250916T094013Z
LAST-MODIFIED:20250916T094013Z
UID:10002720-1759683600-1759690800@thelizard.uk
SUMMARY:Bob Seymour Live
DESCRIPTION:Join us for live music from Bob Seymour!\nSunday 5th October\, 5pm
URL:https://thelizard.uk/event/bob-seymour-live/
LOCATION:The Blue Anchor\, Helston\, 46 Coinagehall Street\, Helston\, TR13 8EL
CATEGORIES:Live Music & Entertainment
ATTACH;FMTTYPE=image/jpeg:https://thelizard.uk/wp-content/uploads/2025/09/bobseymour.jpg
END:VEVENT
BEGIN:VEVENT
DTSTART;TZID=Europe/London:20260131T210000
DTEND;TZID=Europe/London:20260131T230000
DTSTAMP:20260424T003539
CREATED:20260105T090538Z
LAST-MODIFIED:20260105T090538Z
UID:10002751-1769893200-1769900400@thelizard.uk
SUMMARY:The Roosters
DESCRIPTION:Free Entry
URL:https://thelizard.uk/event/the-roosters-2/
LOCATION:The Blue Anchor\, Helston\, 46 Coinagehall Street\, Helston\, TR13 8EL
CATEGORIES:Live Music & Entertainment
ATTACH;FMTTYPE=image/jpeg:https://thelizard.uk/wp-content/uploads/2026/01/roosters.jpg
END:VEVENT
BEGIN:VEVENT
DTSTART;TZID=Europe/London:20260214T200000
DTEND;TZID=Europe/London:20260214T220000
DTSTAMP:20260424T003539
CREATED:20260211T105944Z
LAST-MODIFIED:20260211T105944Z
UID:10002768-1771099200-1771106400@thelizard.uk
SUMMARY:Tori Chilcott @ The Blue Anchor
DESCRIPTION:Celebrate Valentines Day with the one you love…Spingo!\nKidding of course – bring your partner down for some live music from the wonderful Tori Chilcott.\nSaturday 14th February\, 8pm \nhttps://www.facebook.com/events/1088789369987575
URL:https://thelizard.uk/event/tori-chilcott-the-blue-anchor/
LOCATION:The Blue Anchor\, Helston\, 46 Coinagehall Street\, Helston\, TR13 8EL
CATEGORIES:Live Music & Entertainment
ATTACH;FMTTYPE=image/jpeg:https://thelizard.uk/wp-content/uploads/2026/02/torichilcott.jpg
END:VEVENT
BEGIN:VEVENT
DTSTART;TZID=Europe/London:20260220T210000
DTEND;TZID=Europe/London:20260220T230000
DTSTAMP:20260424T003539
CREATED:20260211T110120Z
LAST-MODIFIED:20260211T110120Z
UID:10002769-1771621200-1771628400@thelizard.uk
SUMMARY:Guy Rosewell @ The Blue Anchor
DESCRIPTION:Live music from Guy Rosewall.\nFriday 20th February\, 9pm\nFree entry \nhttps://www.facebook.com/events/1935848354006179
URL:https://thelizard.uk/event/guy-rosewell-the-blue-anchor/
LOCATION:The Blue Anchor\, Helston\, 46 Coinagehall Street\, Helston\, TR13 8EL
CATEGORIES:Live Music & Entertainment
ATTACH;FMTTYPE=image/jpeg:https://thelizard.uk/wp-content/uploads/2026/02/guyrosewall.jpg
END:VEVENT
BEGIN:VEVENT
DTSTART;TZID=Europe/London:20260304T193000
DTEND;TZID=Europe/London:20260304T213000
DTSTAMP:20260424T003539
CREATED:20260211T110329Z
LAST-MODIFIED:20260211T110329Z
UID:10002770-1772652600-1772659800@thelizard.uk
SUMMARY:Yeth an Werin - Cornish Speaking
DESCRIPTION:Join our friendly group of locals in the front bar\, to learn and speak the Cornish language.\nWednesday 4th March\, 7:30pm. Free entry.
URL:https://thelizard.uk/event/yeth-an-werin-cornish-speaking/
LOCATION:The Blue Anchor\, Helston\, 46 Coinagehall Street\, Helston\, TR13 8EL
CATEGORIES:Community Events
ATTACH;FMTTYPE=image/jpeg:https://thelizard.uk/wp-content/uploads/2026/02/yethnwerin.jpg
END:VEVENT
BEGIN:VEVENT
DTSTART;TZID=Europe/London:20260307T170000
DTEND;TZID=Europe/London:20260307T170000
DTSTAMP:20260424T003539
CREATED:20260211T110520Z
LAST-MODIFIED:20260211T110520Z
UID:10002771-1772902800-1772902800@thelizard.uk
SUMMARY:Blue Anchor Shanty Festival
DESCRIPTION:JOIN US FOR OUR ANNUAL SEA SHANTY FESTIVAL!\nKindly organised by Tim Hague.\nLine-up includes:\nOdds & Sods\nBryhers Boys\nJam First\nBaldrick’s Plan\nFive Men Not Called Matt\nCat O’ 9 Wails\nPilchard the Pirate\nShanty Bass\n5pm start.\nAll proceeds to the Sunrise Appeal – a cancer charity.\nCOME ON DOWN!
URL:https://thelizard.uk/event/blue-anchor-shanty-festival/
LOCATION:The Blue Anchor\, Helston\, 46 Coinagehall Street\, Helston\, TR13 8EL
CATEGORIES:Live Music & Entertainment
ATTACH;FMTTYPE=image/jpeg:https://thelizard.uk/wp-content/uploads/2026/02/basf.jpg
END:VEVENT
END:VCALENDAR