BEGIN:VCALENDAR
VERSION:2.0
PRODID:-//The Lizard, Cornwall - ECPv6.0.13.1//NONSGML v1.0//EN
CALSCALE:GREGORIAN
METHOD:PUBLISH
X-ORIGINAL-URL:https://thelizard.uk
X-WR-CALDESC:Events for The Lizard, Cornwall
REFRESH-INTERVAL;VALUE=DURATION:PT1H
X-Robots-Tag:noindex
X-PUBLISHED-TTL:PT1H
BEGIN:VTIMEZONE
TZID:Europe/London
BEGIN:DAYLIGHT
TZOFFSETFROM:+0000
TZOFFSETTO:+0100
TZNAME:BST
DTSTART:20240331T010000
END:DAYLIGHT
BEGIN:STANDARD
TZOFFSETFROM:+0100
TZOFFSETTO:+0000
TZNAME:GMT
DTSTART:20241027T010000
END:STANDARD
END:VTIMEZONE
BEGIN:VEVENT
DTSTART;TZID=Europe/London:20240209T163000
DTEND;TZID=Europe/London:20240209T200000
DTSTAMP:20260422T155339
CREATED:20240129T144124Z
LAST-MODIFIED:20240129T164805Z
UID:10002032-1707496200-1707508800@thelizard.uk
SUMMARY:Smugglers Opening Week
DESCRIPTION:Calling all seafood lovers! \n\nMark Your Calendars: Smugglers Re-opens on February 9th!\n\n\n—\n\n\n Opening Hours:\n\n\n– Thursday: 4:30 PM – 7:00 PM\n– Friday: 4:30 PM – 8:00 PM\n– Saturday: 4:30 PM – 8:00 PM\n\n\n Dive into Deliciousness: Our doors open on the 9th of February with your beloved classics and some exciting new additions. Fresh\, crispy\, and cooked to perfection – that’s the Smugglers promise!
URL:https://thelizard.uk/event/smugglers-opening-week/
LOCATION:Smugglers Fish and Chips\, 1 Kynance Terrace\, The Lizard\, TR12 7NH
CATEGORIES:Food & Drink
ATTACH;FMTTYPE=image/jpeg:https://thelizard.uk/wp-content/uploads/2024/01/smugglers-opening.jpg
END:VEVENT
END:VCALENDAR