BEGIN:VCALENDAR
VERSION:2.0
PRODID:-//The Lizard, Cornwall - ECPv6.0.13.1//NONSGML v1.0//EN
CALSCALE:GREGORIAN
METHOD:PUBLISH
X-WR-CALNAME:The Lizard, Cornwall
X-ORIGINAL-URL:https://thelizard.uk
X-WR-CALDESC:Events for The Lizard, Cornwall
REFRESH-INTERVAL;VALUE=DURATION:PT1H
X-Robots-Tag:noindex
X-PUBLISHED-TTL:PT1H
BEGIN:VTIMEZONE
TZID:Europe/London
BEGIN:DAYLIGHT
TZOFFSETFROM:+0000
TZOFFSETTO:+0100
TZNAME:BST
DTSTART:20250330T010000
END:DAYLIGHT
BEGIN:STANDARD
TZOFFSETFROM:+0100
TZOFFSETTO:+0000
TZNAME:GMT
DTSTART:20251026T010000
END:STANDARD
END:VTIMEZONE
BEGIN:VEVENT
DTSTART;TZID=Europe/London:20250518T100000
DTEND;TZID=Europe/London:20250518T170000
DTSTAMP:20260422T062134
CREATED:20250506T161047Z
LAST-MODIFIED:20250506T161047Z
UID:10002659-1747562400-1747587600@thelizard.uk
SUMMARY:Spring Wildflower Walk
DESCRIPTION:Everyone is welcome to join us for stroll along the coast path starting at Poldhu to Mullion Cove\, taking in the spring flowers and far-reaching views out to sea. \nThis walk is approximately 4 miles long and will take around 2.5 hours. \nThe walks are led by volunteer walk leaders and offer the opportunity for anybody to spend time in nature and meet new people. Everyone is welcome\, of all abilities and experience\, and the walk leader will facilitate the walk to ensure everybody feels comfortable. \n\n\n\n\n\n\nFull details at\nhttps://www.nationaltrust.org.uk/visit/cornwall/poldhu-cove/events/73e4ac94-2cd7-4000-b5f9-d03627f393b0
URL:https://thelizard.uk/event/spring-wildflower-walk/
LOCATION:Poldhu Car Park
CATEGORIES:Wildlife & Walks
ATTACH;FMTTYPE=image/jpeg:https://thelizard.uk/wp-content/uploads/2025/05/wildflowerwalk.jpg
END:VEVENT
END:VCALENDAR