BEGIN:VCALENDAR
VERSION:2.0
PRODID:-//The Lizard, Cornwall - ECPv6.0.13.1//NONSGML v1.0//EN
CALSCALE:GREGORIAN
METHOD:PUBLISH
X-WR-CALNAME:The Lizard, Cornwall
X-ORIGINAL-URL:https://thelizard.uk
X-WR-CALDESC:Events for The Lizard, Cornwall
REFRESH-INTERVAL;VALUE=DURATION:PT1H
X-Robots-Tag:noindex
X-PUBLISHED-TTL:PT1H
BEGIN:VTIMEZONE
TZID:Europe/London
BEGIN:DAYLIGHT
TZOFFSETFROM:+0000
TZOFFSETTO:+0100
TZNAME:BST
DTSTART:20250330T010000
END:DAYLIGHT
BEGIN:STANDARD
TZOFFSETFROM:+0100
TZOFFSETTO:+0000
TZNAME:GMT
DTSTART:20251026T010000
END:STANDARD
END:VTIMEZONE
BEGIN:VEVENT
DTSTART;TZID=Europe/London:20250412T160000
DTEND;TZID=Europe/London:20250413T010000
DTSTAMP:20260423T182442
CREATED:20250331T143707Z
LAST-MODIFIED:20250331T143707Z
UID:10002635-1744473600-1744506000@thelizard.uk
SUMMARY:Inception @ Jumunjy
DESCRIPTION:Inception are mega stoked to be heading to Jumunjy this April!\nKicking off at 4pm we are showcasing two fresh\, new faces – Ana Vanila and DJ T\, both of whom have never played a set out before so the support of the usual Inception crew would be amazing – Let’s show them how we party!\nAlso agreeing to come back and play for us we have the legendary Tom Chapman who never fails to bring the vibe!\nThis is a FREE event so spread the word far and wide!!\nWe look forward to seeing you on the turf and under the stars!
URL:https://thelizard.uk/event/inception-jumunjy/
LOCATION:Jumunjy\, The Old Post Office\, Cury Cross Lanes
CATEGORIES:Live Music & Entertainment
ATTACH;FMTTYPE=image/jpeg:https://thelizard.uk/wp-content/uploads/2025/03/inception.jpg
END:VEVENT
BEGIN:VEVENT
DTSTART;TZID=Europe/London:20250418T140000
DTEND;TZID=Europe/London:20250418T220000
DTSTAMP:20260423T182442
CREATED:20250331T141734Z
LAST-MODIFIED:20250331T141734Z
UID:10002634-1744984800-1745013600@thelizard.uk
SUMMARY:Braps\, Crackles and Pops: Vinyl  Day Party
DESCRIPTION:Analog are returning to the awesome Jumunjy Thai restaurant for a bank holiday day party.\nThis time we are joining forces with Kings of the Amen and Ink events to bring you 10 hours of vinyl music from some of Devon and Cornwalls finest djs/selectors.\nWill be showcasing Reggae\, dub\, dubstep\, breaks\, dnb\, old school and jungle across the day. line up to be soon announced.
URL:https://thelizard.uk/event/braps-crackles-and-pops-vinyl-day-party/
LOCATION:Jumunjy\, The Old Post Office\, Cury Cross Lanes
CATEGORIES:Live Music & Entertainment
ATTACH;FMTTYPE=image/jpeg:https://thelizard.uk/wp-content/uploads/2025/03/braps.jpg
END:VEVENT
BEGIN:VEVENT
DTSTART;TZID=Europe/London:20250420T180000
DTEND;TZID=Europe/London:20250420T180000
DTSTAMP:20260423T182442
CREATED:20250331T143950Z
LAST-MODIFIED:20250331T143950Z
UID:10002636-1745172000-1745172000@thelizard.uk
SUMMARY:Easter Sunday Dub to Jungle Party
DESCRIPTION:Day to night-\nDub to Jungle\nFree entry – BBQ all day
URL:https://thelizard.uk/event/easter-sunday-dub-to-jungle-party/
LOCATION:Jumunjy\, The Old Post Office\, Cury Cross Lanes
CATEGORIES:Live Music & Entertainment
ATTACH;FMTTYPE=image/jpeg:https://thelizard.uk/wp-content/uploads/2025/03/dub.jpg
END:VEVENT
BEGIN:VEVENT
DTSTART;TZID=Europe/London:20251008T160000
DTEND;TZID=Europe/London:20251008T210000
DTSTAMP:20260423T182442
CREATED:20250917T133220Z
LAST-MODIFIED:20250922T100448Z
UID:10002723-1759939200-1759957200@thelizard.uk
SUMMARY:Inja\, Aries & Kleu live at Jumunjy
DESCRIPTION:Inja\, Aries & Kleu — Live at JumunjySaturday 18th Oct → kicking off from 4PM with FREE ENTRY all night. Expect heavy vibes\, big energy & serious basslines. Bring your crew — this one’s not to be missed. \n 
URL:https://thelizard.uk/event/inja-aries-kleu/
LOCATION:Jumunjy\, The Old Post Office\, Cury Cross Lanes
CATEGORIES:Live Music & Entertainment
ATTACH;FMTTYPE=image/jpeg:https://thelizard.uk/wp-content/uploads/2025/09/inja-aries-kleu.jpg
END:VEVENT
END:VCALENDAR