BEGIN:VCALENDAR
VERSION:2.0
PRODID:-//The Lizard, Cornwall - ECPv6.0.13.1//NONSGML v1.0//EN
CALSCALE:GREGORIAN
METHOD:PUBLISH
X-WR-CALNAME:The Lizard, Cornwall
X-ORIGINAL-URL:https://thelizard.uk
X-WR-CALDESC:Events for The Lizard, Cornwall
REFRESH-INTERVAL;VALUE=DURATION:PT1H
X-Robots-Tag:noindex
X-PUBLISHED-TTL:PT1H
BEGIN:VTIMEZONE
TZID:Europe/London
BEGIN:DAYLIGHT
TZOFFSETFROM:+0000
TZOFFSETTO:+0100
TZNAME:BST
DTSTART:20250330T010000
END:DAYLIGHT
BEGIN:STANDARD
TZOFFSETFROM:+0100
TZOFFSETTO:+0000
TZNAME:GMT
DTSTART:20251026T010000
END:STANDARD
END:VTIMEZONE
BEGIN:VEVENT
DTSTART;TZID=Europe/London:20250321T100000
DTEND;TZID=Europe/London:20250321T180000
DTSTAMP:20260423T182537
CREATED:20250318T090913Z
LAST-MODIFIED:20250318T090913Z
UID:10002630-1742551200-1742580000@thelizard.uk
SUMMARY:Helston Spring Thing
DESCRIPTION:Join us for a weekend of exploration and discovery from 21–23 March!\n Take part in The Quest – a town-wide challenge that will put your your knowledge\, observation\, and curiosity skills to the test. It’s free\, fun\, and for all ages!\n Plus\, enjoy free walks and workshops celebrating the season of renewal. \n\n\nFollow @helstonspringthing on Facebook for updates and free tickets!\n\n\nHelston Spring Thing has been funded by Cornwall Council’s Town Delivery Fund and is being developed and delivered by The Helston Place Shaping Board
URL:https://thelizard.uk/event/helston-spring-thing/
LOCATION:Helston
CATEGORIES:Community Events
ATTACH;FMTTYPE=image/jpeg:https://thelizard.uk/wp-content/uploads/2025/03/springthing.jpg
END:VEVENT
BEGIN:VEVENT
DTSTART;TZID=Europe/London:20250508T070000
DTEND;TZID=Europe/London:20250508T170000
DTSTAMP:20260423T182537
CREATED:20250423T153526Z
LAST-MODIFIED:20250423T153617Z
UID:10002648-1746687600-1746723600@thelizard.uk
SUMMARY:Helston Flora Day
DESCRIPTION:This ancient festival is usually held on 8th May. A spring festival to celebrate the end of winter and mark the arrival of the new vitality and fertility with the trees and flowers bursting into life. The houses and shops of the town are decorated with greenery and floral arrangements to express the spirit of renewal. \nWhen the big bass drum strikes the first beat of the dance at seven in the morning\, the spirit of the day is stirred and the celebrations commence. Couples dance through the streets\, entering selected houses and shops to drive out the darkness of winter and bring in the light of spring. \nThe colourful pageant\, known as Hal an Tow\, tells the history of Helston with the participating characters singing about the challenge of the Spanish Armada\, the English patron saint\, St. George and the fight between St. Michael and the devil. \n  \nFind out more at https://helstonfloraday.org.uk/
URL:https://thelizard.uk/event/helston-flora-day/
LOCATION:Helston
CATEGORIES:Community Events,Festivals & Festivities,Live Music & Entertainment
ATTACH;FMTTYPE=image/jpeg:https://thelizard.uk/wp-content/uploads/2025/04/floraday.jpg
END:VEVENT
BEGIN:VEVENT
DTSTART;TZID=Europe/London:20251128T190000
DTEND;TZID=Europe/London:20251128T210000
DTSTAMP:20260423T182537
CREATED:20250916T160825Z
LAST-MODIFIED:20250916T160825Z
UID:10002722-1764356400-1764363600@thelizard.uk
SUMMARY:Helston Christmas Lights Switch On
DESCRIPTION:Come along and join us as Helston’s Christmas season officially starts on the last Friday of November with the switching on of the Christmas Lights. The lights are strung across the main streets and are well-known as one of the best displays in Cornwall.\nExperience the party atmosphere and enjoy the evening market\, with stalls selling everything\, including mince pies and mulled wine at our Rotary stall – with all profits going to local charities. Visit Father Christmas in his grotto and listen to Helston Town Band\, who play leading up to the countdown.\nFind out more at https://fb.me/e/3rECH8fRl
URL:https://thelizard.uk/event/helston-christmas-lights-switch-on/
LOCATION:Helston
CATEGORIES:Christmas Market,Food & Drink,Live Music & Entertainment
ATTACH;FMTTYPE=image/jpeg:https://thelizard.uk/wp-content/uploads/2025/09/helstonlights.jpg
END:VEVENT
END:VCALENDAR