BEGIN:VCALENDAR
VERSION:2.0
PRODID:-//The Lizard, Cornwall - ECPv6.0.13.1//NONSGML v1.0//EN
CALSCALE:GREGORIAN
METHOD:PUBLISH
X-ORIGINAL-URL:https://thelizard.uk
X-WR-CALDESC:Events for The Lizard, Cornwall
REFRESH-INTERVAL;VALUE=DURATION:PT1H
X-Robots-Tag:noindex
X-PUBLISHED-TTL:PT1H
BEGIN:VTIMEZONE
TZID:Europe/London
BEGIN:DAYLIGHT
TZOFFSETFROM:+0000
TZOFFSETTO:+0100
TZNAME:BST
DTSTART:20230326T010000
END:DAYLIGHT
BEGIN:STANDARD
TZOFFSETFROM:+0100
TZOFFSETTO:+0000
TZNAME:GMT
DTSTART:20231029T010000
END:STANDARD
BEGIN:DAYLIGHT
TZOFFSETFROM:+0000
TZOFFSETTO:+0100
TZNAME:BST
DTSTART:20240331T010000
END:DAYLIGHT
BEGIN:STANDARD
TZOFFSETFROM:+0100
TZOFFSETTO:+0000
TZNAME:GMT
DTSTART:20241027T010000
END:STANDARD
END:VTIMEZONE
BEGIN:VEVENT
DTSTART;TZID=Europe/London:20231014T180000
DTEND;TZID=Europe/London:20231014T200000
DTSTAMP:20260421T103234
CREATED:20231005T143029Z
LAST-MODIFIED:20231005T143415Z
UID:10001709-1697306400-1697313600@thelizard.uk
SUMMARY:Ann's Pasty Sessions with John Mulligan's Reincarnation
DESCRIPTION:We know how sad it can be when summer’s over and it goes quiet\, but it’s also the time to get together as a community for uplifting weekend nights and cosy Sundays.\n\nMost Saturday’s we’ll be putting on entertainment to boost those winter weekends. All at The Lizard
URL:https://thelizard.uk/event/anns-pasty-sessions-with-john-mulligans-reincarnation/
LOCATION:Ann’s Pasties\, The Square\, The Lizard\, Helston\, Cornwall\, TR12 7NJ
CATEGORIES:Live Music & Entertainment
ATTACH;FMTTYPE=image/jpeg:https://thelizard.uk/wp-content/uploads/2023/10/ANNS-PASTYSESSIONS.jpg
END:VEVENT
BEGIN:VEVENT
DTSTART;TZID=Europe/London:20231028T180000
DTEND;TZID=Europe/London:20231028T200000
DTSTAMP:20260421T103234
CREATED:20231005T143120Z
LAST-MODIFIED:20231005T143437Z
UID:10001710-1698516000-1698523200@thelizard.uk
SUMMARY:Ann's Pasty Sessions with DJ Descafeinat
DESCRIPTION:We know how sad it can be when summer’s over and it goes quiet\, but it’s also the time to get together as a community for uplifting weekend nights and cosy Sundays.\n\nMost Saturday’s we’ll be putting on entertainment to boost those winter weekends. All at The Lizard
URL:https://thelizard.uk/event/anns-pasty-sessions-with-dj-descafeinat/
LOCATION:Ann’s Pasties\, The Square\, The Lizard\, Helston\, Cornwall\, TR12 7NJ
CATEGORIES:Live Music & Entertainment
ATTACH;FMTTYPE=image/jpeg:https://thelizard.uk/wp-content/uploads/2023/10/ANNS-PASTYSESSIONS.jpg
END:VEVENT
BEGIN:VEVENT
DTSTART;TZID=Europe/London:20231111T190000
DTEND;TZID=Europe/London:20231111T210000
DTSTAMP:20260421T103234
CREATED:20231005T142933Z
LAST-MODIFIED:20231110T161639Z
UID:10001708-1699729200-1699736400@thelizard.uk
SUMMARY:ANNS PASTY SESSIONS WITH SPENCER HAWES TRIO
DESCRIPTION:
URL:https://thelizard.uk/event/anns-pasty-sessions-anns-pasty-sessions-with-spencer-hawes-trio/
LOCATION:Ann’s Pasties\, The Square\, The Lizard\, Helston\, Cornwall\, TR12 7NJ
CATEGORIES:Live Music & Entertainment
ATTACH;FMTTYPE=image/jpeg:https://thelizard.uk/wp-content/uploads/2023/10/ANNS-PASTYSESSIONS.jpg
END:VEVENT
BEGIN:VEVENT
DTSTART;TZID=Europe/London:20240323T190000
DTEND;TZID=Europe/London:20240323T230000
DTSTAMP:20260421T103234
CREATED:20240318T084446Z
LAST-MODIFIED:20240318T084551Z
UID:10002186-1711220400-1711234800@thelizard.uk
SUMMARY:Party at The Pasty Shop
DESCRIPTION:
URL:https://thelizard.uk/event/party-at-the-pasty-shop/
LOCATION:Ann’s Pasties\, The Square\, The Lizard\, Helston\, Cornwall\, TR12 7NJ
CATEGORIES:Food & Drink,Live Music & Entertainment
ATTACH;FMTTYPE=image/jpeg:https://thelizard.uk/wp-content/uploads/2024/03/anns-patpy.jpg
END:VEVENT
BEGIN:VEVENT
DTSTART;TZID=Europe/London:20240719T200000
DTEND;TZID=Europe/London:20240719T230000
DTSTAMP:20260421T103234
CREATED:20240708T133520Z
LAST-MODIFIED:20240708T133524Z
UID:10002422-1721419200-1721430000@thelizard.uk
SUMMARY:Ben Bowden at Ann's Pasties
DESCRIPTION:Ben Bowden will be playing at Ann’s Pasties on Friday 19th July from 8pm. Grab a pasty & a pint\, we will see you there!
URL:https://thelizard.uk/event/ben-bowden-at-anns-pasties/
LOCATION:Ann’s Pasties\, The Square\, The Lizard\, Helston\, Cornwall\, TR12 7NJ
CATEGORIES:Live Music & Entertainment
ATTACH;FMTTYPE=image/jpeg:https://thelizard.uk/wp-content/uploads/2024/07/benbowden.jpg
END:VEVENT
END:VCALENDAR