BEGIN:VCALENDAR
VERSION:2.0
PRODID:-//The Lizard, Cornwall - ECPv6.0.13.1//NONSGML v1.0//EN
CALSCALE:GREGORIAN
METHOD:PUBLISH
X-WR-CALNAME:The Lizard, Cornwall
X-ORIGINAL-URL:https://thelizard.uk
X-WR-CALDESC:Events for The Lizard, Cornwall
REFRESH-INTERVAL;VALUE=DURATION:PT1H
X-Robots-Tag:noindex
X-PUBLISHED-TTL:PT1H
BEGIN:VTIMEZONE
TZID:Europe/London
BEGIN:DAYLIGHT
TZOFFSETFROM:+0000
TZOFFSETTO:+0100
TZNAME:BST
DTSTART:20260329T010000
END:DAYLIGHT
BEGIN:STANDARD
TZOFFSETFROM:+0100
TZOFFSETTO:+0000
TZNAME:GMT
DTSTART:20261025T010000
END:STANDARD
END:VTIMEZONE
BEGIN:VEVENT
DTSTART;TZID=Europe/London:20260304T193000
DTEND;TZID=Europe/London:20260304T213000
DTSTAMP:20260422T142436
CREATED:20260211T110329Z
LAST-MODIFIED:20260211T110329Z
UID:10002770-1772652600-1772659800@thelizard.uk
SUMMARY:Yeth an Werin - Cornish Speaking
DESCRIPTION:Join our friendly group of locals in the front bar\, to learn and speak the Cornish language.\nWednesday 4th March\, 7:30pm. Free entry.
URL:https://thelizard.uk/event/yeth-an-werin-cornish-speaking/
LOCATION:The Blue Anchor\, Helston\, 46 Coinagehall Street\, Helston\, TR13 8EL
CATEGORIES:Community Events
ATTACH;FMTTYPE=image/jpeg:https://thelizard.uk/wp-content/uploads/2026/02/yethnwerin.jpg
END:VEVENT
BEGIN:VEVENT
DTSTART;TZID=Europe/London:20260305T200000
DTEND;TZID=Europe/London:20260305T210000
DTSTAMP:20260422T142436
CREATED:20260305T100523Z
LAST-MODIFIED:20260305T100523Z
UID:10002777-1772740800-1772744400@thelizard.uk
SUMMARY:Trelawney Shout
DESCRIPTION:Come and join us on St Piran’s Day at 9pm for the Trelawney shout with Cadgwith Singers.
URL:https://thelizard.uk/event/trelawney-shout/
LOCATION:The Top House Inn\, Lizard\, Helston\, Cornwall\, TR12 7NQ\, United Kingdom
CATEGORIES:Community Events,Live Music & Entertainment
ATTACH;FMTTYPE=image/jpeg:https://thelizard.uk/wp-content/uploads/2026/03/trelawneyshout.jpg
END:VEVENT
BEGIN:VEVENT
DTSTART;TZID=Europe/London:20260307T170000
DTEND;TZID=Europe/London:20260307T170000
DTSTAMP:20260422T142436
CREATED:20260211T110520Z
LAST-MODIFIED:20260211T110520Z
UID:10002771-1772902800-1772902800@thelizard.uk
SUMMARY:Blue Anchor Shanty Festival
DESCRIPTION:JOIN US FOR OUR ANNUAL SEA SHANTY FESTIVAL!\nKindly organised by Tim Hague.\nLine-up includes:\nOdds & Sods\nBryhers Boys\nJam First\nBaldrick’s Plan\nFive Men Not Called Matt\nCat O’ 9 Wails\nPilchard the Pirate\nShanty Bass\n5pm start.\nAll proceeds to the Sunrise Appeal – a cancer charity.\nCOME ON DOWN!
URL:https://thelizard.uk/event/blue-anchor-shanty-festival/
LOCATION:The Blue Anchor\, Helston\, 46 Coinagehall Street\, Helston\, TR13 8EL
CATEGORIES:Live Music & Entertainment
ATTACH;FMTTYPE=image/jpeg:https://thelizard.uk/wp-content/uploads/2026/02/basf.jpg
END:VEVENT
BEGIN:VEVENT
DTSTART;TZID=Europe/London:20260307T173000
DTEND;TZID=Europe/London:20260307T180000
DTSTAMP:20260422T142436
CREATED:20260211T103332Z
LAST-MODIFIED:20260211T103332Z
UID:10002762-1772904600-1772906400@thelizard.uk
SUMMARY:Helston Lantern Parade
DESCRIPTION:Helston’s St Piran’s Day Lantern Parade is set to light up the town on Saturday\, 7th Match.\nThe event begins at 5:30pm with live music at Helston Boating Lake & Coronation Park\, followed by the Lantern Parade at 6:30pm. Local schools\, community groups\, and artists will showcase their handcrafted lanterns alongside stunning creations from City of Lights.\n\nFollowing the parade\, there will be more live music.\nThis is a fantastic opportunity to celebrate Cornish heritage with friends and family.\nFor more details or to join a lantern workshop\, visit Helston Town Council or Truro City of Lights on Facebook.Special thanks to South Kerrier Alliance CIC\, Museum of Cornish Life\, Helston CIC\, and Trevow CIC for making this event possible.
URL:https://thelizard.uk/event/helston-lantern-parade/
LOCATION:Helston Boating Lake\, Porthleven Road\, Helston\, Cornwall\, TR13 0SR
CATEGORIES:Community Events,Festivals & Festivities,Live Music & Entertainment
ATTACH;FMTTYPE=image/jpeg:https://thelizard.uk/wp-content/uploads/2026/02/lantern-parade.jpg
END:VEVENT
BEGIN:VEVENT
DTSTART;TZID=Europe/London:20260314T190000
DTEND;TZID=Europe/London:20260314T210000
DTSTAMP:20260422T142436
CREATED:20260305T100023Z
LAST-MODIFIED:20260305T100023Z
UID:10002776-1773514800-1773522000@thelizard.uk
SUMMARY:Live music: Jeanne Naylor & Julian
DESCRIPTION:Join us every Saturday from 7–9pm for relaxed evenings of live music on the farm 🌿✨\n7th March – TBC\, James Dixon sadly cancelled due to unforseen circumstances\, but there will still be a night of great music!\n14th March – Jeanne Naylor & Julian\nWe welcome this great pair back! Gentle\, heartfelt harmonies that feel right at home at Roskilly’s.\n21st March – Ashley Harding\nEnergetic\, charismatic and back by popular demand!\n28th March – Hit & Miss\nFresh\, rootsy and full of local charm — making their debut with us!\nThe evenings are getting lighter\, and in April we hope to be back in the courtyard — with Thursday band nights returning for half term ☀️\nCome and support local live music 💛 Every Saturday | 7–9pm
URL:https://thelizard.uk/event/live-music-jeanne-naylor-julian/
LOCATION:Roskillys\, St Keverne\, Barton Farm\, Helston\, TR12 6NX\, United Kingdom
CATEGORIES:Live Music & Entertainment
ATTACH;FMTTYPE=image/jpeg:https://thelizard.uk/wp-content/uploads/2026/03/jeanne-naylor-julian.jpg
END:VEVENT
BEGIN:VEVENT
DTSTART;TZID=Europe/London:20260317T170000
DTEND;TZID=Europe/London:20260317T190000
DTSTAMP:20260422T142436
CREATED:20260305T101153Z
LAST-MODIFIED:20260305T101208Z
UID:10002778-1773766800-1773774000@thelizard.uk
SUMMARY:St Patrick's Day: Rolling back the prices!
DESCRIPTION:We are rolling back prices 20 Years On St Patrick’s day !!!!
URL:https://thelizard.uk/event/st-patricks-day-rolling-back-the-prices/
LOCATION:The Witchball\, Lighthouse Road\, The Lizard\, TR127NJ\, United Kingdom
CATEGORIES:Food & Drink
ATTACH;FMTTYPE=image/jpeg:https://thelizard.uk/wp-content/uploads/2026/03/stpatricks-witchball.jpg
END:VEVENT
BEGIN:VEVENT
DTSTART;TZID=Europe/London:20260321T103000
DTEND;TZID=Europe/London:20260321T120000
DTSTAMP:20260422T142436
CREATED:20260302T145504Z
LAST-MODIFIED:20260302T145505Z
UID:10002773-1774089000-1774094400@thelizard.uk
SUMMARY:Lizard Litter Pickers: Spring Clean
DESCRIPTION:Lizard Litter Pickers (first event) are taking part in The Great British Spring Clean. Meet near the public loos at 10.30am. Please join us for our first\, regular hopefully\, litter pick in The Lizard village. There will be equipment available but feel free to bring your own. Everyone welcome. Children must be accompanied by an adult.  \nFurther details may be available from https://www.facebook.com/events/25978731005089306/
URL:https://thelizard.uk/event/lizard-litter-pickers-spring-clean/
LOCATION:Lizard Village Green Car Park
CATEGORIES:Community Events
ATTACH;FMTTYPE=image/jpeg:https://thelizard.uk/wp-content/uploads/2026/03/springclean.jpg
END:VEVENT
BEGIN:VEVENT
DTSTART;TZID=Europe/London:20260321T190000
DTEND;TZID=Europe/London:20260321T210000
DTSTAMP:20260422T142436
CREATED:20260305T095539Z
LAST-MODIFIED:20260305T095539Z
UID:10002774-1774119600-1774126800@thelizard.uk
SUMMARY:Live music: Ashley Harding
DESCRIPTION:Join us every Saturday from 7–9pm for relaxed evenings of live music on the farm 🌿✨\n7th March – TBC\, James Dixon sadly cancelled due to unforseen circumstances\, but there will still be a night of great music!\n14th March – Jeanne Naylor & Julian\nWe welcome this great pair back! Gentle\, heartfelt harmonies that feel right at home at Roskilly’s.\n21st March – Ashley Harding\nEnergetic\, charismatic and back by popular demand!\n28th March – Hit & Miss\nFresh\, rootsy and full of local charm — making their debut with us!\nThe evenings are getting lighter\, and in April we hope to be back in the courtyard — with Thursday band nights returning for half term ☀️\nCome and support local live music 💛 Every Saturday | 7–9pm
URL:https://thelizard.uk/event/live-music-ashley-harding/
LOCATION:Roskillys\, St Keverne\, Barton Farm\, Helston\, TR12 6NX\, United Kingdom
CATEGORIES:Live Music & Entertainment
ATTACH;FMTTYPE=image/jpeg:https://thelizard.uk/wp-content/uploads/2025/05/ashleyharding.jpg
END:VEVENT
BEGIN:VEVENT
DTSTART;TZID=Europe/London:20260328T190000
DTEND;TZID=Europe/London:20260328T210000
DTSTAMP:20260422T142436
CREATED:20260305T095811Z
LAST-MODIFIED:20260305T095811Z
UID:10002775-1774724400-1774731600@thelizard.uk
SUMMARY:Live music: Hit & Miss
DESCRIPTION:Join us every Saturday from 7–9pm for relaxed evenings of live music on the farm 🌿✨\n7th March – TBC\, James Dixon sadly cancelled due to unforseen circumstances\, but there will still be a night of great music!\n14th March – Jeanne Naylor & Julian\nWe welcome this great pair back! Gentle\, heartfelt harmonies that feel right at home at Roskilly’s.\n21st March – Ashley Harding\nEnergetic\, charismatic and back by popular demand!\n28th March – Hit & Miss\nFresh\, rootsy and full of local charm — making their debut with us!\nThe evenings are getting lighter\, and in April we hope to be back in the courtyard — with Thursday band nights returning for half term ☀️\nCome and support local live music 💛 Every Saturday | 7–9pm
URL:https://thelizard.uk/event/live-music-hit-miss/
LOCATION:Roskillys\, St Keverne\, Barton Farm\, Helston\, TR12 6NX\, United Kingdom
CATEGORIES:Live Music & Entertainment
ATTACH;FMTTYPE=image/jpeg:https://thelizard.uk/wp-content/uploads/2026/03/hit-and-miss.jpg
END:VEVENT
END:VCALENDAR