BEGIN:VCALENDAR
VERSION:2.0
PRODID:-//The Lizard, Cornwall - ECPv6.0.13.1//NONSGML v1.0//EN
CALSCALE:GREGORIAN
METHOD:PUBLISH
X-WR-CALNAME:The Lizard, Cornwall
X-ORIGINAL-URL:https://thelizard.uk
X-WR-CALDESC:Events for The Lizard, Cornwall
REFRESH-INTERVAL;VALUE=DURATION:PT1H
X-Robots-Tag:noindex
X-PUBLISHED-TTL:PT1H
BEGIN:VTIMEZONE
TZID:Europe/London
BEGIN:DAYLIGHT
TZOFFSETFROM:+0000
TZOFFSETTO:+0100
TZNAME:BST
DTSTART:20230326T010000
END:DAYLIGHT
BEGIN:STANDARD
TZOFFSETFROM:+0100
TZOFFSETTO:+0000
TZNAME:GMT
DTSTART:20231029T010000
END:STANDARD
END:VTIMEZONE
BEGIN:VEVENT
DTSTART;TZID=Europe/London:20230813T210000
DTEND;TZID=Europe/London:20230813T230000
DTSTAMP:20260422T150804
CREATED:20230526T152549Z
LAST-MODIFIED:20230808T114319Z
UID:10001594-1691960400-1691967600@thelizard.uk
SUMMARY:Will Keating & John Dowling – Cornish Folk Music
DESCRIPTION:Join us from 9.00 pm for a proper Cornish pub evening of folk music and songs. Expect foot-stomping\, lots of laughter\, high spirits\, a lot of noise\, and an added splice of bluegrass.\n\nFor more information or to book please message us or call 01326 450098
URL:https://thelizard.uk/event/will-keating-john-dowling-cornish-folk-music/
LOCATION:The Top House Inn\, Lizard\, Helston\, Cornwall\, TR12 7NQ\, United Kingdom
CATEGORIES:Live Music & Entertainment
ATTACH;FMTTYPE=image/jpeg:https://thelizard.uk/wp-content/uploads/2023/05/willkeating-johndowling.jpg
END:VEVENT
BEGIN:VEVENT
DTSTART;TZID=Europe/London:20230814T110000
DTEND;TZID=Europe/London:20230814T130000
DTSTAMP:20260422T150804
CREATED:20230523T095453Z
LAST-MODIFIED:20231002T110420Z
UID:10000018-1692010800-1692018000@thelizard.uk
SUMMARY:Community Coffee Morning
DESCRIPTION:At the Lizard Football & Social Club every Monday from 11am – 1pm. Volunteers will treat you to a warm welcome and a friendly chat in our club. Friends\, pets and cake donations are all very welcome! Call Debbie on 07772 477 368 for any queries.
URL:https://thelizard.uk/event/community-coffee-morning/2023-08-14/
LOCATION:The Lizard Football and Social Club\, Beacon Terrace\, The Lizard\, Helston\, TR12 7PB
ATTACH;FMTTYPE=image/jpeg:https://thelizard.uk/wp-content/uploads/2023/05/329567116_836724537424205_7978730228769738335_n.jpg
END:VEVENT
BEGIN:VEVENT
DTSTART;TZID=Europe/London:20230819T100000
DTEND;TZID=Europe/London:20230819T150000
DTSTAMP:20260422T150804
CREATED:20230523T080516Z
LAST-MODIFIED:20230523T114912Z
UID:10000005-1692439200-1692457200@thelizard.uk
SUMMARY:Lizard Arts & Crafts Market
DESCRIPTION:Join us at Lizard Arts & Craft Market from 10am – 3pm where you will find a large variety of artists\, crafters and artisans selling their beautifully hand crafted items in the tranquil surroundings of Tregullas Farm. \nAt the T junction on Lighthouse road just past Trenoweth gift shop\, turn left and follow our car park and market signs.
URL:https://thelizard.uk/event/lizard-arts-crafts-market-august-2023/
LOCATION:Tregullas Farm\, Tregullas Farm\, Lighthouse Road\, The Lizard\, Cornwall\, TR12 7NG\, United Kingdom
CATEGORIES:Arts & Crafts,Markets
ATTACH;FMTTYPE=image/jpeg:https://thelizard.uk/wp-content/uploads/2023/05/341777197_593983682760129_4597256515546321251_n.jpg
END:VEVENT
BEGIN:VEVENT
DTSTART;TZID=Europe/London:20230821T110000
DTEND;TZID=Europe/London:20230821T130000
DTSTAMP:20260422T150804
CREATED:20230523T095453Z
LAST-MODIFIED:20231002T110420Z
UID:10000019-1692615600-1692622800@thelizard.uk
SUMMARY:Community Coffee Morning
DESCRIPTION:At the Lizard Football & Social Club every Monday from 11am – 1pm. Volunteers will treat you to a warm welcome and a friendly chat in our club. Friends\, pets and cake donations are all very welcome! Call Debbie on 07772 477 368 for any queries.
URL:https://thelizard.uk/event/community-coffee-morning/2023-08-21/
LOCATION:The Lizard Football and Social Club\, Beacon Terrace\, The Lizard\, Helston\, TR12 7PB
ATTACH;FMTTYPE=image/jpeg:https://thelizard.uk/wp-content/uploads/2023/05/329567116_836724537424205_7978730228769738335_n.jpg
END:VEVENT
BEGIN:VEVENT
DTSTART;TZID=Europe/London:20230824T193000
DTEND;TZID=Europe/London:20230824T193000
DTSTAMP:20260422T150804
CREATED:20230824T075740Z
LAST-MODIFIED:20230824T075740Z
UID:10001695-1692905400-1692905400@thelizard.uk
SUMMARY:Boogie Juice & Black Velvet
DESCRIPTION:[vc_row type=”in_container” full_screen_row_position=”middle” column_margin=”default” column_direction=”default” column_direction_tablet=”default” column_direction_phone=”default” scene_position=”center” text_color=”dark” text_align=”left” row_border_radius=”none” row_border_radius_applies=”bg” overflow=”visible” overlay_strength=”0.3″ gradient_direction=”left_to_right” shape_divider_position=”bottom” bg_image_animation=”none”][vc_column column_padding=”no-extra-padding” column_padding_tablet=”inherit” column_padding_phone=”inherit” column_padding_position=”all” column_element_direction_desktop=”default” column_element_spacing=”default” desktop_text_alignment=”default” tablet_text_alignment=”default” phone_text_alignment=”default” background_color_opacity=”1″ background_hover_color_opacity=”1″ column_backdrop_filter=”none” column_shadow=”none” column_border_radius=”none” column_link_target=”_self” column_position=”default” gradient_direction=”left_to_right” overlay_strength=”0.3″ width=”1/1″ tablet_width_inherit=”default” animation_type=”default” bg_image_animation=”none” border_type=”simple” column_border_width=”none” column_border_style=”solid”][vc_column_text]\n\nWe are very excited about our upcoming band nights on Thursday & Friday! We have BOOGIE JUICE (formerly Totally Funked Up)  with us on Thursday 24th from 7:30 pm! A great night of music in the village as you can dance to some feel good dance floor fillers and then catch Jolly Roger perform at Top House Inn – The Lizard\, Cornwall after.\n\n\nThen on Friday 25th\, we have Black Velvet Irish Music\, come on down with your family and friends for a Celtic concert and a true Lizard knees up\, starts at 7:30 pm!\n\n[/vc_column_text][/vc_column][/vc_row]
URL:https://thelizard.uk/event/boogie-juice-black-velvet/2023-08-24/
LOCATION:Chimichangas\, The Square\, Lizard\, Cornwall\, TR12 7NZ\, United Kingdom
CATEGORIES:Live Music & Entertainment
ATTACH;FMTTYPE=image/jpeg:https://thelizard.uk/wp-content/uploads/2023/08/boogiejuiceblackvelvet.jpg
END:VEVENT
BEGIN:VEVENT
DTSTART;TZID=Europe/London:20230825T193000
DTEND;TZID=Europe/London:20230825T213000
DTSTAMP:20260422T150804
CREATED:20230824T075740Z
LAST-MODIFIED:20230824T075740Z
UID:10001696-1692991800-1692999000@thelizard.uk
SUMMARY:Boogie Juice & Black Velvet
DESCRIPTION:[vc_row type=”in_container” full_screen_row_position=”middle” column_margin=”default” column_direction=”default” column_direction_tablet=”default” column_direction_phone=”default” scene_position=”center” text_color=”dark” text_align=”left” row_border_radius=”none” row_border_radius_applies=”bg” overflow=”visible” overlay_strength=”0.3″ gradient_direction=”left_to_right” shape_divider_position=”bottom” bg_image_animation=”none”][vc_column column_padding=”no-extra-padding” column_padding_tablet=”inherit” column_padding_phone=”inherit” column_padding_position=”all” column_element_direction_desktop=”default” column_element_spacing=”default” desktop_text_alignment=”default” tablet_text_alignment=”default” phone_text_alignment=”default” background_color_opacity=”1″ background_hover_color_opacity=”1″ column_backdrop_filter=”none” column_shadow=”none” column_border_radius=”none” column_link_target=”_self” column_position=”default” gradient_direction=”left_to_right” overlay_strength=”0.3″ width=”1/1″ tablet_width_inherit=”default” animation_type=”default” bg_image_animation=”none” border_type=”simple” column_border_width=”none” column_border_style=”solid”][vc_column_text]\n\nWe are very excited about our upcoming band nights on Thursday & Friday! We have BOOGIE JUICE (formerly Totally Funked Up)  with us on Thursday 24th from 7:30 pm! A great night of music in the village as you can dance to some feel good dance floor fillers and then catch Jolly Roger perform at Top House Inn – The Lizard\, Cornwall after.\n\n\nThen on Friday 25th\, we have Black Velvet Irish Music\, come on down with your family and friends for a Celtic concert and a true Lizard knees up\, starts at 7:30 pm!\n\n[/vc_column_text][/vc_column][/vc_row]
URL:https://thelizard.uk/event/boogie-juice-black-velvet/2023-08-25/
LOCATION:Chimichangas\, The Square\, Lizard\, Cornwall\, TR12 7NZ\, United Kingdom
CATEGORIES:Live Music & Entertainment
ATTACH;FMTTYPE=image/jpeg:https://thelizard.uk/wp-content/uploads/2023/08/boogiejuiceblackvelvet.jpg
END:VEVENT
BEGIN:VEVENT
DTSTART;VALUE=DATE:20230827
DTEND;VALUE=DATE:20230828
DTSTAMP:20260422T150804
CREATED:20230601T085332Z
LAST-MODIFIED:20230725T101737Z
UID:10001603-1693094400-1693180799@thelizard.uk
SUMMARY:The Lizard Classic Rally & Show
DESCRIPTION:The most Southerly Car Show on mainland Britain returns for the 44th year\, and it marks the 120th Anniversary of the first GWR bus service!  \nSo this year will be bigger and better than ever!\nClassic cars\, commercials\, tractors\, bikes\, vintage equipment\, race and modern exotics!\nThere will be stalls\, activities\, live events\, and of course\, beer and food!\nGet in touch to GUARANTEE your space \nThe Lizard Classic Vehicle Rally is a show every Bank Holiday Sunday in August to commemorate the first GWR bus service from Helston to The Lizard. \nA static display of cars and motorcycles\, with plenty to see.
URL:https://thelizard.uk/event/the-lizard-classic-rally-show/
CATEGORIES:Festivals & Festivities
ATTACH;FMTTYPE=image/jpeg:https://thelizard.uk/wp-content/uploads/2023/06/classic-show.jpg
END:VEVENT
BEGIN:VEVENT
DTSTART;TZID=Europe/London:20230828T110000
DTEND;TZID=Europe/London:20230828T130000
DTSTAMP:20260422T150804
CREATED:20230523T095453Z
LAST-MODIFIED:20231002T110420Z
UID:10000020-1693220400-1693227600@thelizard.uk
SUMMARY:Community Coffee Morning
DESCRIPTION:At the Lizard Football & Social Club every Monday from 11am – 1pm. Volunteers will treat you to a warm welcome and a friendly chat in our club. Friends\, pets and cake donations are all very welcome! Call Debbie on 07772 477 368 for any queries.
URL:https://thelizard.uk/event/community-coffee-morning/2023-08-28/
LOCATION:The Lizard Football and Social Club\, Beacon Terrace\, The Lizard\, Helston\, TR12 7PB
ATTACH;FMTTYPE=image/jpeg:https://thelizard.uk/wp-content/uploads/2023/05/329567116_836724537424205_7978730228769738335_n.jpg
END:VEVENT
BEGIN:VEVENT
DTSTART;TZID=Europe/London:20230902T210000
DTEND;TZID=Europe/London:20230902T230000
DTSTAMP:20260422T150804
CREATED:20230719T093309Z
LAST-MODIFIED:20230824T081615Z
UID:10001631-1693688400-1693695600@thelizard.uk
SUMMARY:Off The Hook
DESCRIPTION:Fantastic duo of highly experienced musicians who are passionate about their music.\n\nJust a few songs from their very large and excellent range.\nRide On – Christy Moore\nProud Mary – Creedence Clearwater Revival/Tina Turner\nFriday I’m in Love – The Cure\nSeven Nation Army – White Stripes\nBiko – Peter Gabriel\nHuman – Rag ‘n’ Bone Man\nDon’t Look Back in Anger – Oasis\nFather and Son – Cat Stevens\nBefore You Accuse Me – Eric Clapton\nGood Riddance – Green Day\nCome Together – The Beatles\nGo Your Own Way – Fleetwood Mac\nWhiskey in The Jar – Thin Lizzy\n\nCall 01326 450098 for more information.
URL:https://thelizard.uk/event/off-the-hook/
LOCATION:The Top House Inn\, Lizard\, Helston\, Cornwall\, TR12 7NQ\, United Kingdom
CATEGORIES:Live Music & Entertainment
ATTACH;FMTTYPE=image/jpeg:https://thelizard.uk/wp-content/uploads/2023/07/off-the-hook.jpg
END:VEVENT
BEGIN:VEVENT
DTSTART;TZID=Europe/London:20230904T110000
DTEND;TZID=Europe/London:20230904T130000
DTSTAMP:20260422T150804
CREATED:20230523T095453Z
LAST-MODIFIED:20231002T110420Z
UID:10000021-1693825200-1693832400@thelizard.uk
SUMMARY:Community Coffee Morning
DESCRIPTION:At the Lizard Football & Social Club every Monday from 11am – 1pm. Volunteers will treat you to a warm welcome and a friendly chat in our club. Friends\, pets and cake donations are all very welcome! Call Debbie on 07772 477 368 for any queries.
URL:https://thelizard.uk/event/community-coffee-morning/2023-09-04/
LOCATION:The Lizard Football and Social Club\, Beacon Terrace\, The Lizard\, Helston\, TR12 7PB
ATTACH;FMTTYPE=image/jpeg:https://thelizard.uk/wp-content/uploads/2023/05/329567116_836724537424205_7978730228769738335_n.jpg
END:VEVENT
BEGIN:VEVENT
DTSTART;TZID=Europe/London:20230908T210000
DTEND;TZID=Europe/London:20230908T230000
DTSTAMP:20260422T150804
CREATED:20230601T083940Z
LAST-MODIFIED:20230907T134245Z
UID:10001602-1694206800-1694214000@thelizard.uk
SUMMARY:The Roosters
DESCRIPTION:This Friday night we are having a rockin’ party with the amazing duo – The Roosters. This dynamic duo will get your feet moving to the rhythm of great music.🎶🎵 So if you’re looking for a fun time\, come join us\, as we sing along and party all night long.🎸💃🕺🥳 Just a normal Friday night
URL:https://thelizard.uk/event/the-roosters/
LOCATION:The Top House Inn\, Lizard\, Helston\, Cornwall\, TR12 7NQ\, United Kingdom
CATEGORIES:Live Music & Entertainment
ATTACH;FMTTYPE=image/jpeg:https://thelizard.uk/wp-content/uploads/2023/06/10289871_1580915618800512_3049769935008065104_n.jpg
END:VEVENT
BEGIN:VEVENT
DTSTART;TZID=Europe/London:20230911T110000
DTEND;TZID=Europe/London:20230911T130000
DTSTAMP:20260422T150804
CREATED:20230523T095453Z
LAST-MODIFIED:20231002T110420Z
UID:10000022-1694430000-1694437200@thelizard.uk
SUMMARY:Community Coffee Morning
DESCRIPTION:At the Lizard Football & Social Club every Monday from 11am – 1pm. Volunteers will treat you to a warm welcome and a friendly chat in our club. Friends\, pets and cake donations are all very welcome! Call Debbie on 07772 477 368 for any queries.
URL:https://thelizard.uk/event/community-coffee-morning/2023-09-11/
LOCATION:The Lizard Football and Social Club\, Beacon Terrace\, The Lizard\, Helston\, TR12 7PB
ATTACH;FMTTYPE=image/jpeg:https://thelizard.uk/wp-content/uploads/2023/05/329567116_836724537424205_7978730228769738335_n.jpg
END:VEVENT
END:VCALENDAR