BEGIN:VCALENDAR
VERSION:2.0
PRODID:-//The Lizard, Cornwall - ECPv6.0.13.1//NONSGML v1.0//EN
CALSCALE:GREGORIAN
METHOD:PUBLISH
X-WR-CALNAME:The Lizard, Cornwall
X-ORIGINAL-URL:https://thelizard.uk
X-WR-CALDESC:Events for The Lizard, Cornwall
REFRESH-INTERVAL;VALUE=DURATION:PT1H
X-Robots-Tag:noindex
X-PUBLISHED-TTL:PT1H
BEGIN:VTIMEZONE
TZID:Europe/London
BEGIN:DAYLIGHT
TZOFFSETFROM:+0000
TZOFFSETTO:+0100
TZNAME:BST
DTSTART:20260329T010000
END:DAYLIGHT
BEGIN:STANDARD
TZOFFSETFROM:+0100
TZOFFSETTO:+0000
TZNAME:GMT
DTSTART:20261025T010000
END:STANDARD
END:VTIMEZONE
BEGIN:VEVENT
DTSTART;TZID=Europe/London:20260202T190000
DTEND;TZID=Europe/London:20260202T210000
DTSTAMP:20260425T213353
CREATED:20260122T114045Z
LAST-MODIFIED:20260122T114045Z
UID:10002756-1770058800-1770066000@thelizard.uk
SUMMARY:Talk by Paul Gainey: Flora of The Lizard
DESCRIPTION:The flora of the Lizard Peninsula – A Talk by Paul Gainey Monday February 2nd 7pm Ruan Minor Village Hall. \nPaul Gainey is an amateur naturalist of 68 years interested in all aspects of Cornish natural History. \nwildlifegroundswell@gmail.com
URL:https://thelizard.uk/event/talk-by-paul-gainey-flora-of-the-lizard/
LOCATION:Ruan Minor Village Hall
CATEGORIES:Wildlife & Walks
ATTACH;FMTTYPE=image/jpeg:https://thelizard.uk/wp-content/uploads/2026/01/flora.jpg
END:VEVENT
BEGIN:VEVENT
DTSTART;TZID=Europe/London:20260212T133000
DTEND;TZID=Europe/London:20260212T153000
DTSTAMP:20260425T213353
CREATED:20260122T115318Z
LAST-MODIFIED:20260122T115318Z
UID:10002759-1770903000-1770910200@thelizard.uk
SUMMARY:History of Poltesco Walk
DESCRIPTION:BOOKING ESSENTIAL\n \nStep into Cornwall’s dramatic past with a guided walk to Poltesco\, taking in the old Serpentine Works. \n\n\n\nThis walk will be led by volunteer walk leaders and offer the opportunity for anybody to learn a little about the history of Poltesco\, spend time in nature and meet new people. Everyone is welcome\, of all abilities and experience\, and the walk leader will facilitate the walk to ensure everybody feels comfortable. \n\n\n\n\n\n\nFull details at\n\n\n\nhttps://www.nationaltrust.org.uk/visit/cornwall/lizard-point/events/0f7120da-5cd7-4a17-bd7c-11d12d457b58 \nBooking details\nCall 0344 249 1895 \n\nSuitability\nRecommended 12+ \n\nMeeting point\nRuan Minor free car park TR12 7LF What3Words ///splits.loaf.irritate \n\nWhat to bring and wear\nPlease come in sturdy footwear and bring some waterproofs in case of showers. \nAccessibility\nThe route follows sections along the South West Coast Path\, including uneven ground\, steep gradient\, steps and a number of stiles. The walk can be muddy so please wear sturdy boots\, trainers will not be suitable. \nOther\nDogs welcome on leads
URL:https://thelizard.uk/event/history-of-poltesco-walk/
CATEGORIES:Wildlife & Walks
ATTACH;FMTTYPE=image/jpeg:https://thelizard.uk/wp-content/uploads/2026/01/poltesco.jpg
END:VEVENT
BEGIN:VEVENT
DTSTART;TZID=Europe/London:20260226T133000
DTEND;TZID=Europe/London:20260226T160000
DTSTAMP:20260425T213353
CREATED:20260122T115645Z
LAST-MODIFIED:20260122T115645Z
UID:10002760-1772112600-1772121600@thelizard.uk
SUMMARY:Lizard Walks - Lizard Village to Church Cove
DESCRIPTION:We will be starting at Lizard Village Green and taking in Church Cove and Bass Point on a circular route of around 5 miles (approx. 2.5 hours). \nWe will be taking in the surrounding countryside and dramatic coastline including Housel Bay\, with the opportunity to spot seals and choughs. \nFull details at\nhttps://www.nationaltrust.org.uk/visit/cornwall/lizard-point/events/c6b51104-a3f4-45d2-b48c-17e77df9c648 \n  \n\n\n\nMeeting point \nMeet at Lizard green car park TR12 7NZ what3words //////cherish.foiled.electrode Parking charges apply. \n\nWhat to bring and wear \nPlease come in sturdy footwear and bring some waterproofs in case of showers. \n\nAccessibility \nThe route follows sections along the South West Coast Path\, including uneven ground\, steep gradient\, steps and a number of stiles. The walk can be muddy so please wear sturdy boots\, trainers will not be suitable. \n\nOther \nDogs welcome on a lead. We may pass through fields where cattle are present.
URL:https://thelizard.uk/event/lizard-walks-lizard-village-to-church-cove/
LOCATION:Lizard Village Green Car Park
CATEGORIES:Wildlife & Walks
ATTACH;FMTTYPE=image/jpeg:https://thelizard.uk/wp-content/uploads/2026/01/churchcove.jpg
END:VEVENT
BEGIN:VEVENT
DTSTART;TZID=Europe/London:20260504T093000
DTEND;TZID=Europe/London:20260504T160000
DTSTAMP:20260425T213353
CREATED:20260401T075900Z
LAST-MODIFIED:20260401T075900Z
UID:10002779-1777887000-1777910400@thelizard.uk
SUMMARY:Celebration of Nature
DESCRIPTION:🌿 We’ve got so much planned for you that we’re starting earlier to fit it all in! 🐝\n⏰ New start time: 9:30am\n🗓️ Monday 4 May 2026 (save the date!)\n📍 Rosuick Farm\, The Lizard\nFamily-friendly | All welcome\nJoin us for Celebration of Nature – a day of talks\, creativity\, music\, and community at the heart of the Lizard Peninsula. This special event\, hosted by @wildlifegroundswell\, brings together local voices\, national projects\, and hands-on activities to inspire and connect us with the natural world.\nAcross five themed zones you’ll discover:\n 🌱 Voices for Nature – poetry\, talks\, films\, and stories about nature recovery on the Lizard\n 🦉 Our Projects – inspiring speakers on rewilding\, curlews\, rivers\, beavers\, food and farming\, and more\n 🎨 Art & Making – creative workshops including swift kite making\, bug boxes\n 🎶 Sound & Story Space – music\, storytelling nature soundscapes\n 🌳 The Future – add your hopes and actions for nature to our interactive “Future Tree”\nThere will be space to explore\, connect\, and take part –  whether you want to listen\, create\, or simply enjoy the day in the beautiful setting of Rosuick Farm! 🐫 \nFind out more at https://www.facebook.com/wildlifegroundswell or https://www.wildlifegroundswell.org.uk/
URL:https://thelizard.uk/event/celebration-of-nature/
LOCATION:Rosuick Farm\, TR12 6DZ
CATEGORIES:Community Events,Wildlife & Walks
ATTACH;FMTTYPE=image/jpeg:https://thelizard.uk/wp-content/uploads/2026/04/celebrationofnature.jpg
END:VEVENT
END:VCALENDAR