BEGIN:VCALENDAR
VERSION:2.0
PRODID:-//The Lizard, Cornwall - ECPv6.0.13.1//NONSGML v1.0//EN
CALSCALE:GREGORIAN
METHOD:PUBLISH
X-WR-CALNAME:The Lizard, Cornwall
X-ORIGINAL-URL:https://thelizard.uk
X-WR-CALDESC:Events for The Lizard, Cornwall
REFRESH-INTERVAL;VALUE=DURATION:PT1H
X-Robots-Tag:noindex
X-PUBLISHED-TTL:PT1H
BEGIN:VTIMEZONE
TZID:Europe/London
BEGIN:DAYLIGHT
TZOFFSETFROM:+0000
TZOFFSETTO:+0100
TZNAME:BST
DTSTART:20230326T010000
END:DAYLIGHT
BEGIN:STANDARD
TZOFFSETFROM:+0100
TZOFFSETTO:+0000
TZNAME:GMT
DTSTART:20231029T010000
END:STANDARD
END:VTIMEZONE
BEGIN:VEVENT
DTSTART;TZID=Europe/London:20231027T170000
DTEND;TZID=Europe/London:20231027T200000
DTSTAMP:20260424T162010
CREATED:20231023T115926Z
LAST-MODIFIED:20231027T102930Z
UID:10001721-1698426000-1698436800@thelizard.uk
SUMMARY:Kids Halloween Party
DESCRIPTION:Kids Halloween party 🎃 👻\nFriday 27th October. 5pm\nFeel free to bring a plate of food to share.\nThere will be sweets and games.\nFREE fun for all ages!\nAll welcome.. \nFind out more at https://www.facebook.com/events/1735830950201840/
URL:https://thelizard.uk/event/kids-halloween-party/
LOCATION:The Lizard Football and Social Club\, Beacon Terrace\, The Lizard\, Helston\, TR12 7PB
CATEGORIES:Community Events,Festivals & Festivities
ATTACH;FMTTYPE=image/jpeg:https://thelizard.uk/wp-content/uploads/2023/10/kids-halloween-party.jpg
END:VEVENT
BEGIN:VEVENT
DTSTART;TZID=Europe/London:20231014T200000
DTEND;TZID=Europe/London:20231015T010000
DTSTAMP:20260424T162010
CREATED:20231005T144233Z
LAST-MODIFIED:20231005T144640Z
UID:10001711-1697313600-1697331600@thelizard.uk
SUMMARY:End of Season Party
DESCRIPTION:Reincarnation presents the END OF SEASON PARTY \nWe are back again.\nNon profitable. Raising funds for local causes.\nThis year with a free party\nSat 14th October .\nReincarnation’s 2nd Birthday\nWarm up Session Ann’s Pasty Bar the lizard 6-8pm\nMain event\nLizard Argyle Football Club\n8pm-1am
URL:https://thelizard.uk/event/end-of-season-party/
LOCATION:The Lizard Football and Social Club\, Beacon Terrace\, The Lizard\, Helston\, TR12 7PB
CATEGORIES:Community Events,Festivals & Festivities,Live Music & Entertainment
ATTACH;FMTTYPE=image/jpeg:https://thelizard.uk/wp-content/uploads/2023/10/reincarnation.jpg
END:VEVENT
BEGIN:VEVENT
DTSTART;VALUE=DATE:20230827
DTEND;VALUE=DATE:20230828
DTSTAMP:20260424T162010
CREATED:20230601T085332Z
LAST-MODIFIED:20230725T101737Z
UID:10001603-1693094400-1693180799@thelizard.uk
SUMMARY:The Lizard Classic Rally & Show
DESCRIPTION:The most Southerly Car Show on mainland Britain returns for the 44th year\, and it marks the 120th Anniversary of the first GWR bus service!  \nSo this year will be bigger and better than ever!\nClassic cars\, commercials\, tractors\, bikes\, vintage equipment\, race and modern exotics!\nThere will be stalls\, activities\, live events\, and of course\, beer and food!\nGet in touch to GUARANTEE your space \nThe Lizard Classic Vehicle Rally is a show every Bank Holiday Sunday in August to commemorate the first GWR bus service from Helston to The Lizard. \nA static display of cars and motorcycles\, with plenty to see.
URL:https://thelizard.uk/event/the-lizard-classic-rally-show/
CATEGORIES:Festivals & Festivities
ATTACH;FMTTYPE=image/jpeg:https://thelizard.uk/wp-content/uploads/2023/06/classic-show.jpg
END:VEVENT
BEGIN:VEVENT
DTSTART;VALUE=DATE:20230804
DTEND;VALUE=DATE:20230807
DTSTAMP:20260424T162010
CREATED:20230725T100729Z
LAST-MODIFIED:20230731T083947Z
UID:10001692-1691107200-1691366399@thelizard.uk
SUMMARY:The Witchball's 14th Annual Beer & Cider Festival
DESCRIPTION:[vc_row type=”in_container” full_screen_row_position=”middle” column_margin=”default” column_direction=”default” column_direction_tablet=”default” column_direction_phone=”default” scene_position=”center” text_color=”dark” text_align=”left” row_border_radius=”none” row_border_radius_applies=”bg” overflow=”visible” overlay_strength=”0.3″ gradient_direction=”left_to_right” shape_divider_position=”bottom” bg_image_animation=”none”][vc_column column_padding=”no-extra-padding” column_padding_tablet=”inherit” column_padding_phone=”inherit” column_padding_position=”all” column_element_direction_desktop=”default” column_element_spacing=”default” desktop_text_alignment=”default” tablet_text_alignment=”default” phone_text_alignment=”default” background_color_opacity=”1″ background_hover_color_opacity=”1″ column_backdrop_filter=”none” column_shadow=”none” column_border_radius=”none” column_link_target=”_self” column_position=”default” gradient_direction=”left_to_right” overlay_strength=”0.3″ width=”1/1″ tablet_width_inherit=”default” animation_type=”default” bg_image_animation=”none” border_type=”simple” column_border_width=”none” column_border_style=”solid”][vc_column_text]https://www.facebook.com/events/695297222642716 \n  \n[/vc_column_text][/vc_column][/vc_row][vc_row type=”in_container” full_screen_row_position=”middle” column_margin=”default” column_direction=”default” column_direction_tablet=”default” column_direction_phone=”default” scene_position=”center” text_color=”dark” text_align=”left” row_border_radius=”none” row_border_radius_applies=”bg” overflow=”visible” overlay_strength=”0.3″ gradient_direction=”left_to_right” shape_divider_position=”bottom” bg_image_animation=”none”][vc_column column_padding=”no-extra-padding” column_padding_tablet=”inherit” column_padding_phone=”inherit” column_padding_position=”all” column_element_direction_desktop=”default” column_element_spacing=”default” desktop_text_alignment=”default” tablet_text_alignment=”default” phone_text_alignment=”default” background_color_opacity=”1″ background_hover_color_opacity=”1″ column_backdrop_filter=”none” column_shadow=”none” column_border_radius=”none” column_link_target=”_self” column_position=”default” gradient_direction=”left_to_right” overlay_strength=”0.3″ width=”1/3″ tablet_width_inherit=”default” animation_type=”default” bg_image_animation=”none” border_type=”simple” column_border_width=”none” column_border_style=”solid”][image_with_animation image_url=”1695″ image_size=”full” animation_type=”entrance” animation=”None” animation_movement_type=”transform_y” hover_animation=”none” alignment=”” border_radius=”none” box_shadow=”none” image_loading=”default” max_width=”100%” max_width_mobile=”default”][/vc_column][vc_column column_padding=”no-extra-padding” column_padding_tablet=”inherit” column_padding_phone=”inherit” column_padding_position=”all” column_element_direction_desktop=”default” column_element_spacing=”default” desktop_text_alignment=”default” tablet_text_alignment=”default” phone_text_alignment=”default” background_color_opacity=”1″ background_hover_color_opacity=”1″ column_backdrop_filter=”none” column_shadow=”none” column_border_radius=”none” column_link_target=”_self” column_position=”default” gradient_direction=”left_to_right” overlay_strength=”0.3″ width=”1/3″ tablet_width_inherit=”default” animation_type=”default” bg_image_animation=”none” border_type=”simple” column_border_width=”none” column_border_style=”solid”][/vc_column][vc_column column_padding=”no-extra-padding” column_padding_tablet=”inherit” column_padding_phone=”inherit” column_padding_position=”all” column_element_direction_desktop=”default” column_element_spacing=”default” desktop_text_alignment=”default” tablet_text_alignment=”default” phone_text_alignment=”default” background_color_opacity=”1″ background_hover_color_opacity=”1″ column_backdrop_filter=”none” column_shadow=”none” column_border_radius=”none” column_link_target=”_self” column_position=”default” gradient_direction=”left_to_right” overlay_strength=”0.3″ width=”1/3″ tablet_width_inherit=”default” animation_type=”default” bg_image_animation=”none” border_type=”simple” column_border_width=”none” column_border_style=”solid”][/vc_column][/vc_row]
URL:https://thelizard.uk/event/the-witchballs-14th-annual-beer-cider-festival/
LOCATION:The Witchball\, Lighthouse Road\, The Lizard\, TR127NJ\, United Kingdom
CATEGORIES:Festivals & Festivities,Food & Drink
ATTACH;FMTTYPE=image/jpeg:https://thelizard.uk/wp-content/uploads/2023/07/witchball-BEERFEST.jpg
END:VEVENT
BEGIN:VEVENT
DTSTART;TZID=Europe/London:20230714T080000
DTEND;TZID=Europe/London:20230717T230000
DTSTAMP:20260424T162010
CREATED:20230522T174702Z
LAST-MODIFIED:20230526T153412Z
UID:10000002-1689321600-1689634800@thelizard.uk
SUMMARY:Crafty Fest
DESCRIPTION:[vc_row type=”in_container” full_screen_row_position=”middle” column_margin=”default” column_direction=”default” column_direction_tablet=”default” column_direction_phone=”default” scene_position=”center” text_color=”dark” text_align=”left” row_border_radius=”none” row_border_radius_applies=”bg” overflow=”visible” overlay_strength=”0.3″ gradient_direction=”left_to_right” shape_divider_position=”bottom” bg_image_animation=”none”][vc_column column_padding=”no-extra-padding” column_padding_tablet=”inherit” column_padding_phone=”inherit” column_padding_position=”all” column_element_direction_desktop=”default” column_element_spacing=”default” desktop_text_alignment=”default” tablet_text_alignment=”default” phone_text_alignment=”default” background_color_opacity=”1″ background_hover_color_opacity=”1″ column_backdrop_filter=”none” column_shadow=”none” column_border_radius=”none” column_link_target=”_self” column_position=”default” gradient_direction=”left_to_right” overlay_strength=”0.3″ width=”1/1″ tablet_width_inherit=”default” animation_type=”default” bg_image_animation=”none” border_type=”simple” column_border_width=”none” column_border_style=”solid”][heading]\nA 3 day festival celebrating crafting and camping.\n[/heading][/vc_column][/vc_row][vc_row type=”in_container” full_screen_row_position=”middle” column_margin=”default” equal_height=”yes” content_placement=”middle” column_direction=”default” column_direction_tablet=”default” column_direction_phone=”default” scene_position=”center” text_color=”dark” text_align=”left” row_border_radius=”none” row_border_radius_applies=”bg” overflow=”visible” overlay_strength=”0.3″ gradient_direction=”left_to_right” shape_divider_position=”bottom” bg_image_animation=”none” gradient_type=”default” shape_type=””][vc_column column_padding=”no-extra-padding” column_padding_tablet=”inherit” column_padding_phone=”inherit” column_padding_position=”all” column_element_direction_desktop=”default” column_element_spacing=”default” desktop_text_alignment=”default” tablet_text_alignment=”default” phone_text_alignment=”default” background_color_opacity=”1″ background_hover_color_opacity=”1″ column_backdrop_filter=”none” column_shadow=”none” column_border_radius=”none” column_link_target=”_self” column_position=”default” gradient_direction=”left_to_right” overlay_strength=”0.3″ width=”1/2″ tablet_width_inherit=”default” animation_type=”default” bg_image_animation=”none” border_type=”simple” column_border_width=”none” column_border_style=”solid”][image_with_animation image_url=”599″ image_size=”full” animation_type=”entrance” animation=”None” animation_movement_type=”transform_y” hover_animation=”none” alignment=”” img_link_large=”yes” border_radius=”3px” box_shadow=”none” image_loading=”default” max_width=”100%” max_width_mobile=”default”][/vc_column][vc_column column_padding=”no-extra-padding” column_padding_tablet=”inherit” column_padding_phone=”inherit” column_padding_position=”all” column_element_direction_desktop=”default” column_element_spacing=”default” desktop_text_alignment=”default” tablet_text_alignment=”default” phone_text_alignment=”default” background_color_opacity=”1″ background_hover_color_opacity=”1″ column_backdrop_filter=”none” column_shadow=”none” column_border_radius=”none” column_link_target=”_self” column_position=”default” gradient_direction=”left_to_right” overlay_strength=”0.3″ width=”1/2″ tablet_width_inherit=”default” animation_type=”default” bg_image_animation=”none” border_type=”simple” column_border_width=”none” column_border_style=”solid”][vc_column_text]This 3 day event will take place on the 14th-17th July. There will be stalls\, workshops\,  a kid’s corner\, classic cars\, live music\, bar\, food and more! \nCome and stay on the beautiful Lizard peninsula and spend three days immersed in home-made arts and a community of people who make home wherever they land. \nTickets available NOW\, click on link below.[/vc_column_text][/vc_column][/vc_row][vc_row type=”in_container” full_screen_row_position=”middle” column_margin=”default” equal_height=”yes” content_placement=”middle” column_direction=”default” column_direction_tablet=”default” column_direction_phone=”default” scene_position=”center” text_color=”dark” text_align=”left” row_border_radius=”none” row_border_radius_applies=”bg” overflow=”visible” overlay_strength=”0.3″ gradient_direction=”left_to_right” shape_divider_position=”bottom” bg_image_animation=”none” gradient_type=”default” shape_type=””][vc_column column_padding=”padding-2-percent” column_padding_tablet=”inherit” column_padding_phone=”inherit” column_padding_position=”all” column_element_direction_desktop=”default” column_element_spacing=”default” desktop_text_alignment=”default” tablet_text_alignment=”default” phone_text_alignment=”default” background_color_opacity=”1″ background_hover_color_opacity=”1″ column_backdrop_filter=”none” column_shadow=”small_depth” column_border_radius=”3px” column_link_target=”_self” column_position=”default” gradient_direction=”left_to_right” overlay_strength=”0.3″ width=”1/1″ tablet_width_inherit=”default” animation_type=”default” bg_image_animation=”none” border_type=”simple” column_border_width=”none” column_border_style=”solid” column_padding_type=”default” gradient_type=”default”][vc_column_text]\nTickets available via Ticket Tailor\n[/vc_column_text][nectar_btn size=”large” open_new_tab=”true” button_style=”see-through” button_color_2=”Extra-Color-1″ color_override=”#2ac4ea” icon_family=”none” text=”BOOK TICKETS” url=”https://www.tickettailor.com/checkout/view-event/id/1962108/chk/b298/?entry_link=%2Fall-tickets%2Fcraftyfest%2F%3Fbg_fill%3Dfalse%26minimal%3Dtrue%26ref%3Dwebsite_widget%26show_logo%3Dfalse%26widget%3Dtrue&ref=website_widget&widget=true&minimal=true&show_logo=false&bg_fill=false&disable-widget=true”][/vc_column][/vc_row]
URL:https://thelizard.uk/event/crafty-fest/
LOCATION:Kynance Camping\, Kynance Camping\, Lizard\,\, Helston\, TR12 7FA
CATEGORIES:Arts & Crafts,Festivals & Festivities,Live Music & Entertainment
ATTACH;FMTTYPE=image/jpeg:https://thelizard.uk/wp-content/uploads/2023/05/332349807_723329962581727_8280879804608051923_n.jpg
END:VEVENT
BEGIN:VEVENT
DTSTART;VALUE=DATE:20230604
DTEND;VALUE=DATE:20230605
DTSTAMP:20260424T162010
CREATED:20230523T102609Z
LAST-MODIFIED:20230601T090003Z
UID:10001575-1685836800-1685923199@thelizard.uk
SUMMARY:Lizard Scarecrow Hunt and CarBoot Safari
DESCRIPTION:The theme for this year’s Lizard scarecrow hunt is animals. \nCan all scarecrows be up for June the 4th when we’ll also be doing a carboot safari. if you are doing a scarecrow or having a carboot outside your house then please let us know your name and address then we can put together a map. on the 4th of June you can purchase a map for £1 then have fun hunting around the lizard village for scarecrows and car boots on the way
URL:https://thelizard.uk/event/lizard-scarecrow-hunt/
CATEGORIES:Arts & Crafts,Community Events,Festivals & Festivities
ATTACH;FMTTYPE=image/jpeg:https://thelizard.uk/wp-content/uploads/2023/05/SCARECROWhunt-1.jpg
END:VEVENT
END:VCALENDAR