BEGIN:VCALENDAR
VERSION:2.0
PRODID:-//The Lizard, Cornwall - ECPv6.0.13.1//NONSGML v1.0//EN
CALSCALE:GREGORIAN
METHOD:PUBLISH
X-WR-CALNAME:The Lizard, Cornwall
X-ORIGINAL-URL:https://thelizard.uk
X-WR-CALDESC:Events for The Lizard, Cornwall
REFRESH-INTERVAL;VALUE=DURATION:PT1H
X-Robots-Tag:noindex
X-PUBLISHED-TTL:PT1H
BEGIN:VTIMEZONE
TZID:Europe/London
BEGIN:DAYLIGHT
TZOFFSETFROM:+0000
TZOFFSETTO:+0100
TZNAME:BST
DTSTART:20260329T010000
END:DAYLIGHT
BEGIN:STANDARD
TZOFFSETFROM:+0100
TZOFFSETTO:+0000
TZNAME:GMT
DTSTART:20261025T010000
END:STANDARD
END:VTIMEZONE
BEGIN:VEVENT
DTSTART;TZID=Europe/London:20260307T173000
DTEND;TZID=Europe/London:20260307T180000
DTSTAMP:20260420T233344
CREATED:20260211T103332Z
LAST-MODIFIED:20260211T103332Z
UID:10002762-1772904600-1772906400@thelizard.uk
SUMMARY:Helston Lantern Parade
DESCRIPTION:Helston’s St Piran’s Day Lantern Parade is set to light up the town on Saturday\, 7th Match.\nThe event begins at 5:30pm with live music at Helston Boating Lake & Coronation Park\, followed by the Lantern Parade at 6:30pm. Local schools\, community groups\, and artists will showcase their handcrafted lanterns alongside stunning creations from City of Lights.\n\nFollowing the parade\, there will be more live music.\nThis is a fantastic opportunity to celebrate Cornish heritage with friends and family.\nFor more details or to join a lantern workshop\, visit Helston Town Council or Truro City of Lights on Facebook.Special thanks to South Kerrier Alliance CIC\, Museum of Cornish Life\, Helston CIC\, and Trevow CIC for making this event possible.
URL:https://thelizard.uk/event/helston-lantern-parade/
LOCATION:Helston Boating Lake\, Porthleven Road\, Helston\, Cornwall\, TR13 0SR
CATEGORIES:Community Events,Festivals & Festivities,Live Music & Entertainment
ATTACH;FMTTYPE=image/jpeg:https://thelizard.uk/wp-content/uploads/2026/02/lantern-parade.jpg
END:VEVENT
BEGIN:VEVENT
DTSTART;VALUE=DATE:20260807
DTEND;VALUE=DATE:20260810
DTSTAMP:20260420T233344
CREATED:20260211T103813Z
LAST-MODIFIED:20260211T103814Z
UID:10002763-1786060800-1786319999@thelizard.uk
SUMMARY:The Witchball Beer & Cider Festival 2026
DESCRIPTION:The Witchball’s 17th Annual Beer & Cider Festival 7th 8th 9th August… more details to come.\nSee https://www.facebook.com/thewitchball
URL:https://thelizard.uk/event/the-witchball-beer-cider-festival-2026/
LOCATION:The Witchball\, Lighthouse Road\, The Lizard\, TR127NJ\, United Kingdom
CATEGORIES:Community Events,Festivals & Festivities,Food & Drink,Live Music & Entertainment
ATTACH;FMTTYPE=image/jpeg:https://thelizard.uk/wp-content/uploads/2026/02/wbacf2026.jpg
END:VEVENT
BEGIN:VEVENT
DTSTART;VALUE=DATE:20260904
DTEND;VALUE=DATE:20260907
DTSTAMP:20260420T233344
CREATED:20260211T104308Z
LAST-MODIFIED:20260211T104308Z
UID:10002764-1788480000-1788739199@thelizard.uk
SUMMARY:The Lizard Sea Shanty Festival 2026
DESCRIPTION:🎶⚓ The Lizard Sea Shanty Festival CIC ⚓🎶Our annual free-to-attend festival is about community\, music\, & local spirit.Supporting the local community.Join us and help make a difference.💙 \nFollow the festival on Facebook for the latest news and updates. \nhttps://www.facebook.com/TheLizardSeaShantyFestival
URL:https://thelizard.uk/event/the-lizard-sea-shanty-festival-2026/
LOCATION:The Top House Inn\, Lizard\, Helston\, Cornwall\, TR12 7NQ\, United Kingdom
CATEGORIES:Festivals & Festivities,Food & Drink,Live Music & Entertainment
ATTACH;FMTTYPE=image/jpeg:https://thelizard.uk/wp-content/uploads/2026/02/lssf2026.jpg
END:VEVENT
END:VCALENDAR