BEGIN:VCALENDAR
VERSION:2.0
PRODID:-//The Lizard, Cornwall - ECPv6.0.13.1//NONSGML v1.0//EN
CALSCALE:GREGORIAN
METHOD:PUBLISH
X-ORIGINAL-URL:https://thelizard.uk
X-WR-CALDESC:Events for The Lizard, Cornwall
REFRESH-INTERVAL;VALUE=DURATION:PT1H
X-Robots-Tag:noindex
X-PUBLISHED-TTL:PT1H
BEGIN:VTIMEZONE
TZID:Europe/London
BEGIN:DAYLIGHT
TZOFFSETFROM:+0000
TZOFFSETTO:+0100
TZNAME:BST
DTSTART:20250330T010000
END:DAYLIGHT
BEGIN:STANDARD
TZOFFSETFROM:+0100
TZOFFSETTO:+0000
TZNAME:GMT
DTSTART:20251026T010000
END:STANDARD
END:VTIMEZONE
BEGIN:VEVENT
DTSTART;TZID=Europe/London:20251019T120000
DTEND;TZID=Europe/London:20251019T160000
DTSTAMP:20260419T191721
CREATED:20250922T101008Z
LAST-MODIFIED:20250922T101139Z
UID:10002729-1760875200-1760889600@thelizard.uk
SUMMARY:Live on the Lawn at Housel Bay Hotel
DESCRIPTION:[vc_row type=”in_container” full_screen_row_position=”middle” column_margin=”default” column_direction=”default” column_direction_tablet=”default” column_direction_phone=”default” scene_position=”center” text_color=”dark” text_align=”left” row_border_radius=”none” row_border_radius_applies=”bg” overflow=”visible” overlay_strength=”0.3″ gradient_direction=”left_to_right” shape_divider_position=”bottom” bg_image_animation=”none”][vc_column column_padding=”no-extra-padding” column_padding_tablet=”inherit” column_padding_phone=”inherit” column_padding_position=”all” column_element_direction_desktop=”default” column_element_spacing=”default” desktop_text_alignment=”default” tablet_text_alignment=”default” phone_text_alignment=”default” background_color_opacity=”1″ background_hover_color_opacity=”1″ column_backdrop_filter=”none” column_shadow=”none” column_border_radius=”none” column_link_target=”_self” column_position=”default” gradient_direction=”left_to_right” overlay_strength=”0.3″ width=”1/1″ tablet_width_inherit=”default” animation_type=”default” bg_image_animation=”none” border_type=”simple” column_border_width=”none” column_border_style=”solid”][vc_column_text]\nIf you’ve joined us before\, you’ll know the magic: great Cornish music\, sea views\, and a warm community atmosphere. But this edition brings a new flavour – think mulled cider\, delicious hot chocolates\, golden-hued coastal views\, cosy blankets\, and an autumnal feasting table. \nOur Housel Harvest Feast will be available from 12pm-4pm\, with live music from 3pm-5pm. Walk ins welcome subject to availability on the day. We recommend purchasing aa Harvest Feast ticket in advance. \n£25 per person for our Housel Harvest Feast\, expect flavours of the season featuring hearty dishes\, seasonal touches\, and something sweet to finish. £12.50 per child under 12. Menu coming soon. \nA note on the unpredictable Cornish weather….inspired by the Minack Theatre “we play in the rain!”. \n[/vc_column_text][nectar_btn size=”large” open_new_tab=”true” button_style=”regular” button_color_2=”Accent-Color” solid_text_color_override=”#FFFFFF” icon_family=”none” text=”DETAILS + TICKETS” url=”https://www.houselbay.com/shop/p/live-on-the-lawn-autumn-edition?fbclid=IwY2xjawM9_uBleHRuA2FlbQIxMABicmlkETBIZU5NazZKR1ZzMHMwTXRzAR7ObY0E63df_-BTEjkxeYpW-27AG4CRkQ2NSh5cAkomki8kqLFChf7exBHU2Q_aem_VmKO8WUuTXozTFgjuSYLuA”][/vc_column][/vc_row]
URL:https://thelizard.uk/event/live-on-the-lawn-at-housel-bay-hotel/
LOCATION:Housel Bay Hotel\, Housel Bay Road\, Lizard\, TR12 7PG\, United Kingdom
CATEGORIES:Food & Drink,Live Music & Entertainment
ATTACH;FMTTYPE=image/jpeg:https://thelizard.uk/wp-content/uploads/2025/09/housel-lotl.jpg
END:VEVENT
BEGIN:VEVENT
DTSTART;TZID=Europe/London:20251019T160000
DTEND;TZID=Europe/London:20251019T180000
DTSTAMP:20260419T191721
CREATED:20250917T134647Z
LAST-MODIFIED:20250922T101751Z
UID:10002727-1760889600-1760896800@thelizard.uk
SUMMARY:Woodfired Sessions: Skye-Anna
DESCRIPTION:Sunday 19th OctoberSkye-Anna returns to bring her rays of musical sunshine to the Polurrian’s Vista Lounge on a Sunday afternoon. Guaranteed to put a smile on your face and a song in your heart\, Skye-Anna’s beautiful vocals and carefully curated setlist will be the perfect backdrop as a wintertime afternoon melts into evening. Sundown cocktail anyone?\nAll day menu available from 12-9pmAfternoon Tea available from 12-4.30pmSkye Anna plays at 4pm\nPLEASE BOOK YOUR TABLEOr call reception: 01326 240421.\nFREE ENTRY
URL:https://thelizard.uk/event/woodfired-sessions-skye-anna/
LOCATION:Polurrian Hotel\, Mullion\, Polurrian Road\, Mullion\, Helston\, TR12 7EN
CATEGORIES:Live Music & Entertainment
ATTACH;FMTTYPE=image/jpeg:https://thelizard.uk/wp-content/uploads/2025/09/skyeanna.jpg
END:VEVENT
END:VCALENDAR