BEGIN:VCALENDAR
VERSION:2.0
PRODID:-//The Lizard, Cornwall - ECPv6.0.13.1//NONSGML v1.0//EN
CALSCALE:GREGORIAN
METHOD:PUBLISH
X-ORIGINAL-URL:https://thelizard.uk
X-WR-CALDESC:Events for The Lizard, Cornwall
REFRESH-INTERVAL;VALUE=DURATION:PT1H
X-Robots-Tag:noindex
X-PUBLISHED-TTL:PT1H
BEGIN:VTIMEZONE
TZID:Europe/London
BEGIN:DAYLIGHT
TZOFFSETFROM:+0000
TZOFFSETTO:+0100
TZNAME:BST
DTSTART:20250330T010000
END:DAYLIGHT
BEGIN:STANDARD
TZOFFSETFROM:+0100
TZOFFSETTO:+0000
TZNAME:GMT
DTSTART:20251026T010000
END:STANDARD
END:VTIMEZONE
BEGIN:VEVENT
DTSTART;TZID=Europe/London:20251010T200000
DTEND;TZID=Europe/London:20251010T220000
DTSTAMP:20260422T095342
CREATED:20251006T081013Z
LAST-MODIFIED:20251006T081039Z
UID:10002737-1760126400-1760133600@thelizard.uk
SUMMARY:One Last Shanty: Farewell to Andy & Margaret
DESCRIPTION:As Andy & Margaret ride off into the sunset towards a well-earned retirement and a slower pace of life\, we’d love you to join us in giving them the send-off they truly deserve. \n\n  \n\nRaise a glass \, share a story\, and of course\, sing a shanty or two in their honour. 
URL:https://thelizard.uk/event/one-last-shanty/
LOCATION:The Top House Inn\, Lizard\, Helston\, Cornwall\, TR12 7NQ\, United Kingdom
CATEGORIES:Live Music & Entertainment
ATTACH;FMTTYPE=image/jpeg:https://thelizard.uk/wp-content/uploads/2025/10/one-last-shanty.jpg
END:VEVENT
END:VCALENDAR